BEGIN:VCALENDAR
VERSION:2.0
PRODID:-//The Hangry Dog - ECPv6.15.20//NONSGML v1.0//EN
CALSCALE:GREGORIAN
METHOD:PUBLISH
X-ORIGINAL-URL:https://hangrydog307.com
X-WR-CALDESC:Events for The Hangry Dog
REFRESH-INTERVAL;VALUE=DURATION:PT1H
X-Robots-Tag:noindex
X-PUBLISHED-TTL:PT1H
BEGIN:VTIMEZONE
TZID:America/Denver
BEGIN:DAYLIGHT
TZOFFSETFROM:-0700
TZOFFSETTO:-0600
TZNAME:MDT
DTSTART:20250309T090000
END:DAYLIGHT
BEGIN:STANDARD
TZOFFSETFROM:-0600
TZOFFSETTO:-0700
TZNAME:MST
DTSTART:20251102T080000
END:STANDARD
BEGIN:DAYLIGHT
TZOFFSETFROM:-0700
TZOFFSETTO:-0600
TZNAME:MDT
DTSTART:20260308T090000
END:DAYLIGHT
BEGIN:STANDARD
TZOFFSETFROM:-0600
TZOFFSETTO:-0700
TZNAME:MST
DTSTART:20261101T080000
END:STANDARD
BEGIN:DAYLIGHT
TZOFFSETFROM:-0700
TZOFFSETTO:-0600
TZNAME:MDT
DTSTART:20270314T090000
END:DAYLIGHT
BEGIN:STANDARD
TZOFFSETFROM:-0600
TZOFFSETTO:-0700
TZNAME:MST
DTSTART:20271107T080000
END:STANDARD
END:VTIMEZONE
BEGIN:VEVENT
DTSTART;TZID=America/Denver:20260422T160000
DTEND;TZID=America/Denver:20260422T200000
DTSTAMP:20260423T102652
CREATED:20260414T001934Z
LAST-MODIFIED:20260414T001934Z
UID:372-1776873600-1776888000@hangrydog307.com
SUMMARY:Bingo\, Beer and Best Hot Dogs at Black Tooth Brewery
DESCRIPTION:Come out and join us at Black Tooth Brewery Wednesday for Dinner and Bingo and head inside for an ice cold beer!
URL:https://hangrydog307.com/event/bingo-beer-and-best-hot-dogs-at-black-tooth-brewery/
LOCATION:Black Tooth Brewery – Casper\, 322 South David Street\, Suite A\, Casepr\, WY\, 82601\, United States
END:VEVENT
END:VCALENDAR