BEGIN:VCALENDAR
VERSION:2.0
PRODID:-//The Hangry Dog - ECPv6.15.20//NONSGML v1.0//EN
CALSCALE:GREGORIAN
METHOD:PUBLISH
X-WR-CALNAME:The Hangry Dog
X-ORIGINAL-URL:https://hangrydog307.com
X-WR-CALDESC:Events for The Hangry Dog
REFRESH-INTERVAL;VALUE=DURATION:PT1H
X-Robots-Tag:noindex
X-PUBLISHED-TTL:PT1H
BEGIN:VTIMEZONE
TZID:America/Denver
BEGIN:DAYLIGHT
TZOFFSETFROM:-0700
TZOFFSETTO:-0600
TZNAME:MDT
DTSTART:20230312T090000
END:DAYLIGHT
BEGIN:STANDARD
TZOFFSETFROM:-0600
TZOFFSETTO:-0700
TZNAME:MST
DTSTART:20231105T080000
END:STANDARD
BEGIN:DAYLIGHT
TZOFFSETFROM:-0700
TZOFFSETTO:-0600
TZNAME:MDT
DTSTART:20240310T090000
END:DAYLIGHT
BEGIN:STANDARD
TZOFFSETFROM:-0600
TZOFFSETTO:-0700
TZNAME:MST
DTSTART:20241103T080000
END:STANDARD
BEGIN:DAYLIGHT
TZOFFSETFROM:-0700
TZOFFSETTO:-0600
TZNAME:MDT
DTSTART:20250309T090000
END:DAYLIGHT
BEGIN:STANDARD
TZOFFSETFROM:-0600
TZOFFSETTO:-0700
TZNAME:MST
DTSTART:20251102T080000
END:STANDARD
BEGIN:DAYLIGHT
TZOFFSETFROM:-0700
TZOFFSETTO:-0600
TZNAME:MDT
DTSTART:20260308T090000
END:DAYLIGHT
BEGIN:STANDARD
TZOFFSETFROM:-0600
TZOFFSETTO:-0700
TZNAME:MST
DTSTART:20261101T080000
END:STANDARD
END:VTIMEZONE
BEGIN:VEVENT
DTSTART;TZID=America/Denver:20250521T170000
DTEND;TZID=America/Denver:20250521T210000
DTSTAMP:20260423T160220
CREATED:20250501T001310Z
LAST-MODIFIED:20250501T001310Z
UID:333-1747846800-1747861200@hangrydog307.com
SUMMARY:Hot Dogs and Baseball @ Field of Dreams Baseball Complex
DESCRIPTION:What goes better with Baseball than a Hot Dog???  Yep\, we can’t think of anything else either!!  Come down to the Field of Dreams Baseball Complex and grab a hot dog and watch some youth baseball!
URL:https://hangrydog307.com/event/hot-dogs-and-baseball-field-of-dreams-baseball-complex-3/
LOCATION:Field of Dreams Baseball Complex\, 1355 E K Street\, Casper\, WY\, 82601\, United States
END:VEVENT
BEGIN:VEVENT
DTSTART;TZID=America/Denver:20250517T100000
DTEND;TZID=America/Denver:20250517T170000
DTSTAMP:20260423T160220
CREATED:20250501T010031Z
LAST-MODIFIED:20250501T010031Z
UID:344-1747476000-1747501200@hangrydog307.com
SUMMARY:Hangry Dog at 10th Anniversary Funky Junk
DESCRIPTION:Who’s ready for the Spring Funky Junk!!  We know we are!!  Join us at David Street Station for the 2025 Spring Funky Junk!!
URL:https://hangrydog307.com/event/hangry-dog-at-10th-anniversary-funky-junk/
LOCATION:Funky Junk\, 200 S. David St.\, Casper\, WY\, 82601\, United States
END:VEVENT
BEGIN:VEVENT
DTSTART;TZID=America/Denver:20250516T100000
DTEND;TZID=America/Denver:20250516T180000
DTSTAMP:20260423T160220
CREATED:20250501T005607Z
LAST-MODIFIED:20250501T005607Z
UID:342-1747389600-1747418400@hangrydog307.com
SUMMARY:Hangry Dog @ Frontier Brewing Co. for Free Beer and Hot Wings show
DESCRIPTION:Come and see us at Frontier Brewing on Friday for lunch and the Free Beer and Hot Wings Show (unfortunately this is a sold out show)\, but we will still be serving up good eats outside that you can enjoy in their tap room.
URL:https://hangrydog307.com/event/hangry-dog-frontier-brewing-co-for-free-beer-and-hot-wings-show/
LOCATION:Frontier Brewing Company & Taproom\, 150 W 2nd. Street\, Casper\, WY\, 82601\, United States
END:VEVENT
BEGIN:VEVENT
DTSTART;TZID=America/Denver:20250515T160000
DTEND;TZID=America/Denver:20250515T200000
DTSTAMP:20260423T160220
CREATED:20250501T001812Z
LAST-MODIFIED:20250501T001812Z
UID:338-1747324800-1747339200@hangrydog307.com
SUMMARY:Hangry Dog @ Black Tooth Brewery - Casper
DESCRIPTION:Come out and see us at Black Tooth Brewery in Casper and grab some dinner\, then head inside for a beer and Trivia!
URL:https://hangrydog307.com/event/hangry-dog-black-tooth-brewery-casper/
LOCATION:Black Tooth Brewery – Casper\, 322 South David Street\, Suite A\, Casepr\, WY\, 82601\, United States
END:VEVENT
BEGIN:VEVENT
DTSTART;TZID=America/Denver:20250514T170000
DTEND;TZID=America/Denver:20250514T210000
DTSTAMP:20260423T160220
CREATED:20250501T001214Z
LAST-MODIFIED:20250501T001214Z
UID:331-1747242000-1747256400@hangrydog307.com
SUMMARY:Hot Dogs and Baseball @ Field of Dreams Baseball Complex
DESCRIPTION:What goes better with Baseball than a Hot Dog???  Yep\, we can’t think of anything else either!!  Come down to the Field of Dreams Baseball Complex and grab a hot dog and watch some youth baseball!
URL:https://hangrydog307.com/event/hot-dogs-and-baseball-field-of-dreams-baseball-complex-2/
LOCATION:Field of Dreams Baseball Complex\, 1355 E K Street\, Casper\, WY\, 82601\, United States
END:VEVENT
BEGIN:VEVENT
DTSTART;TZID=America/Denver:20250508T170000
DTEND;TZID=America/Denver:20250508T190000
DTSTAMP:20260423T160220
CREATED:20250501T001112Z
LAST-MODIFIED:20250501T001112Z
UID:329-1746723600-1746730800@hangrydog307.com
SUMMARY:Hot Dogs and Baseball @ Field of Dreams Baseball Complex
DESCRIPTION:What goes better with Baseball than a Hot Dog???  Yep\, we can’t think of anything else either!!  Come down to the Field of Dreams Baseball Complex and grab a hot dog and watch some youth baseball!
URL:https://hangrydog307.com/event/hot-dogs-and-baseball-field-of-dreams-baseball-complex/
LOCATION:Field of Dreams Baseball Complex\, 1355 E K Street\, Casper\, WY\, 82601\, United States
END:VEVENT
BEGIN:VEVENT
DTSTART;TZID=America/Denver:20250507T160000
DTEND;TZID=America/Denver:20250507T200000
DTSTAMP:20260423T160220
CREATED:20250501T001625Z
LAST-MODIFIED:20250501T001652Z
UID:335-1746633600-1746648000@hangrydog307.com
SUMMARY:Hot Dogs\, Beer and Bingo @ Black Tooth Brewery - Casper
DESCRIPTION:Come out and see us at Black Tooth Brewery in Casper and grab some dinner\, then head inside for a beer and BINGO!
URL:https://hangrydog307.com/event/hot-dogs-beer-and-bingo-black-tooth-brewery-casper/
LOCATION:Black Tooth Brewery – Casper\, 322 South David Street\, Suite A\, Casepr\, WY\, 82601\, United States
END:VEVENT
BEGIN:VEVENT
DTSTART;TZID=America/Denver:20250503T100000
DTEND;TZID=America/Denver:20250503T160000
DTSTAMP:20260423T160220
CREATED:20250501T000825Z
LAST-MODIFIED:20250501T000825Z
UID:326-1746266400-1746288000@hangrydog307.com
SUMMARY:Hot Dogs and Baseball @ Field of Dreams Complex
DESCRIPTION:What goes better with Baseball than a Hot Dog???  Yep\, we can’t think of anything else either!!  Come down to the Field of Dreams Baseball Complex and grab a hot dog and watch some youth baseball!
URL:https://hangrydog307.com/event/hot-dogs-and-baseball-field-of-dreams-complex/
LOCATION:Field of Dreams Baseball Complex\, 1355 E K Street\, Casper\, WY\, 82601\, United States
END:VEVENT
BEGIN:VEVENT
DTSTART;TZID=America/Denver:20250502T150000
DTEND;TZID=America/Denver:20250502T200000
DTSTAMP:20260423T160220
CREATED:20250430T234227Z
LAST-MODIFIED:20250430T234227Z
UID:324-1746198000-1746216000@hangrydog307.com
SUMMARY:Mountain Hops - Beverly Street Location
DESCRIPTION:Join us for a Friday Night at Mountain Hops Brewhouse.  It’s supposed to be perfect weather for a hot dog and beer on the patio!!
URL:https://hangrydog307.com/event/mountain-hops-beverly-street-location/
LOCATION:WY
END:VEVENT
BEGIN:VEVENT
DTSTART;TZID=America/Denver:20250501T173000
DTEND;TZID=America/Denver:20250501T200000
DTSTAMP:20260423T160220
CREATED:20250430T234056Z
LAST-MODIFIED:20250430T234056Z
UID:322-1746120600-1746129600@hangrydog307.com
SUMMARY:Hangry Dog @ Art 321 - Art Walk
DESCRIPTION:Come and join us for the first Art Walk of the year at Art 321 from 5:30 – 8pm
URL:https://hangrydog307.com/event/hangry-dog-art-321-art-walk/
LOCATION:Art 321\, 321 W Midwest Ave.\, Casper\, 82601\, United States
END:VEVENT
BEGIN:VEVENT
DTSTART;TZID=America/Denver:20250430T080000
DTEND;TZID=America/Denver:20250430T170000
DTSTAMP:20260423T160220
CREATED:20250501T011054Z
LAST-MODIFIED:20250501T011054Z
UID:349-1746000000-1746032400@hangrydog307.com
SUMMARY:Sunday Summer Market @ Old Town Family Fun
DESCRIPTION:Sunday Summer Markets 11am-3pm featuring local vendors and food trucks.
URL:https://hangrydog307.com/event/sunday-summer-market-old-town-family-fun/
LOCATION:Riverfront Mini Golf\, 301 West E St.\, Casper\, WY\, 82601\, United States
END:VEVENT
BEGIN:VEVENT
DTSTART;TZID=America/Denver:20250426T120000
DTEND;TZID=America/Denver:20250426T200000
DTSTAMP:20260423T160220
CREATED:20250423T173037Z
LAST-MODIFIED:20250423T173037Z
UID:320-1745668800-1745697600@hangrydog307.com
SUMMARY:Dogs\, Beer & Music @ Black Tooth
DESCRIPTION:Come down to Black Tooth Brewery Saturday and see us from 12-8.  We will be serving up lunch and dinner.  Stay for a little while or a long time\, but make sure to order us a delicious dog from the Wiener Mobile\, and then head inside for a beer.  Todd n Mandi will be playing some tunes at 7pm.
URL:https://hangrydog307.com/event/dogs-beer-music-black-tooth/
LOCATION:WY
END:VEVENT
BEGIN:VEVENT
DTSTART;TZID=America/Denver:20250424T150000
DTEND;TZID=America/Denver:20250424T200000
DTSTAMP:20260423T160220
CREATED:20250423T172542Z
LAST-MODIFIED:20250423T172542Z
UID:318-1745506800-1745524800@hangrydog307.com
SUMMARY:Dinner and Drinks at Mountain Hops Brewhouse
DESCRIPTION:Come and see us and enjoy the beautiful weather on the patio at Mountain Hops Brewhouse Beverly location.
URL:https://hangrydog307.com/event/dinner-and-drinks-at-mountain-hops-brewhouse/
LOCATION:Mountain Hops Brewhouse\, 612 N. Beverly\, Casper\, WY\, 82609\, United States
END:VEVENT
BEGIN:VEVENT
DTSTART;TZID=America/Denver:20250423T160000
DTEND;TZID=America/Denver:20250423T200000
DTSTAMP:20260423T160220
CREATED:20250423T172301Z
LAST-MODIFIED:20250423T172301Z
UID:316-1745424000-1745438400@hangrydog307.com
SUMMARY:Hot Dog and Beer - Black Tooth Brewery
DESCRIPTION:Come and see us at Black Tooth Brewery and then head inside and grab a beer and play BINGO!!
URL:https://hangrydog307.com/event/hot-dog-and-beer-black-tooth-brewery/
LOCATION:Black Tooth Brewery – Casper\, 322 South David Street\, Suite A\, Casepr\, WY\, 82601\, United States
END:VEVENT
BEGIN:VEVENT
DTSTART;TZID=America/Denver:20241130T120000
DTEND;TZID=America/Denver:20241130T200000
DTSTAMP:20260423T160220
CREATED:20241031T231937Z
LAST-MODIFIED:20241031T231937Z
UID:293-1732968000-1732996800@hangrydog307.com
SUMMARY:Small Business Saturday @ Black Tooth Brewing - Casper
DESCRIPTION:Come down and support 2 local businesses on Small Business Saturday!!  We will be serving you some goodies from 12-8pm.  Then head inside for some beer and UW Football!
URL:https://hangrydog307.com/event/small-business-saturday-black-tooth-brewing-casper/
LOCATION:Black Tooth Brewery – Casper\, 322 South David Street\, Suite A\, Casepr\, WY\, 82601\, United States
END:VEVENT
BEGIN:VEVENT
DTSTART;TZID=America/Denver:20241129T080000
DTEND;TZID=America/Denver:20241129T170000
DTSTAMP:20260423T160220
CREATED:20241031T231721Z
LAST-MODIFIED:20241031T231721Z
UID:291-1732867200-1732899600@hangrydog307.com
SUMMARY:Black Tooth Brewing - Casper
DESCRIPTION:After a long day of Black Friday Shopping\, come on down to Black Tooth Brewing – Casper and let us feed you.  Then head inside for a tasty beer and some Karaoke!!  We will be serving up dinner from 4-8 pm\, with Karaoke from 8-10 pm.
URL:https://hangrydog307.com/event/black-tooth-brewing-casper-6/
LOCATION:Black Tooth Brewery – Casper\, 322 South David Street\, Suite A\, Casepr\, WY\, 82601\, United States
END:VEVENT
BEGIN:VEVENT
DTSTART;TZID=America/Denver:20241123T120000
DTEND;TZID=America/Denver:20241123T200000
DTSTAMP:20260423T160220
CREATED:20241031T231425Z
LAST-MODIFIED:20241031T231425Z
UID:289-1732363200-1732392000@hangrydog307.com
SUMMARY:Black Tooth Brewing - Casper
DESCRIPTION:Join us for dinner at Black Tooth Brewing – Casper for dinner\, beer and a good time.  We will be serving up goodies from 4-8pm.  Grab dinner with us\, and then head inside for a beer and to watch the Cowboys Play!!
URL:https://hangrydog307.com/event/black-tooth-brewing-casper-5/
LOCATION:Black Tooth Brewery – Casper\, 322 South David Street\, Suite A\, Casepr\, WY\, 82601\, United States
END:VEVENT
BEGIN:VEVENT
DTSTART;TZID=America/Denver:20241122T150000
DTEND;TZID=America/Denver:20241122T200000
DTSTAMP:20260423T160220
CREATED:20241031T234039Z
LAST-MODIFIED:20241031T234039Z
UID:309-1732287600-1732305600@hangrydog307.com
SUMMARY:Mountain Hops Brewhouse
DESCRIPTION:Come hang out with us and our friends at Mountain Hops Brewhouse.  We will be serving up tasty treats from 3-8pm.  Then head inside to see what they have on tap for your drinking pleasure!
URL:https://hangrydog307.com/event/mountain-hops-brewhouse-6/
LOCATION:Mountain Hops Brewhouse\, 612 N. Beverly\, Casper\, WY\, 82609\, United States
END:VEVENT
BEGIN:VEVENT
DTSTART;TZID=America/Denver:20241121T160000
DTEND;TZID=America/Denver:20241121T200000
DTSTAMP:20260423T160220
CREATED:20241031T231106Z
LAST-MODIFIED:20241031T231106Z
UID:286-1732204800-1732219200@hangrydog307.com
SUMMARY:Black Tooth Brewing - Casper
DESCRIPTION:Join us for dinner at Black Tooth Brewing – Casper for dinner\, beer and a good time.  We will be serving up goodies from 4-8pm.  Grab dinner with us\, and then head inside for a beer and trivia night!
URL:https://hangrydog307.com/event/black-tooth-brewing-casper-4/
LOCATION:Black Tooth Brewery – Casper\, 322 South David Street\, Suite A\, Casepr\, WY\, 82601\, United States
END:VEVENT
BEGIN:VEVENT
DTSTART;TZID=America/Denver:20241120T150000
DTEND;TZID=America/Denver:20241120T200000
DTSTAMP:20260423T160220
CREATED:20241031T233947Z
LAST-MODIFIED:20241031T233947Z
UID:307-1732114800-1732132800@hangrydog307.com
SUMMARY:Mountain Hops Brewhouse
DESCRIPTION:Come hang out with us and our friends at Mountain Hops Brewhouse.  We will be serving up tasty treats from 3-8pm.  Then head inside to see what they have on tap for your drinking pleasure!
URL:https://hangrydog307.com/event/mountain-hops-brewhouse-5/
LOCATION:Mountain Hops Brewhouse\, 612 N. Beverly\, Casper\, WY\, 82609\, United States
END:VEVENT
BEGIN:VEVENT
DTSTART;TZID=America/Denver:20241116T120000
DTEND;TZID=America/Denver:20241116T200000
DTSTAMP:20260423T160220
CREATED:20241031T233307Z
LAST-MODIFIED:20241116T175222Z
UID:299-1731758400-1731787200@hangrydog307.com
SUMMARY:Black Tooth Brewing - Casper
DESCRIPTION:Come down and enjoy your Saturday with us at Black Tooth Brewing.  We will be serving you up good eats from 12-8.  Then you can head inside for a cold pint or two of your favorite brew!!   Make sure to stick around for live music at 7pm.
URL:https://hangrydog307.com/event/frontier-brewing-company-3/
LOCATION:Frontier Brewing Company & Taproom\, 150 W 2nd. Street\, Casper\, WY\, 82601\, United States
END:VEVENT
BEGIN:VEVENT
DTSTART;TZID=America/Denver:20241115T150000
DTEND;TZID=America/Denver:20241115T200000
DTSTAMP:20260423T160220
CREATED:20241031T232441Z
LAST-MODIFIED:20241031T232441Z
UID:297-1731682800-1731700800@hangrydog307.com
SUMMARY:Food & Football at Frontier Brewing Company
DESCRIPTION:Come out and see us at Frontier Brewing Company and get ready for one of the most intense rivalries in college football – it’s The BORDER WAR! The Cowboys take on Colorado State\, and you can catch all the action on the big screens at Frontier Brewing. Kickoff is at 6pm\, and we’ll have plenty of ice-cold beer to fuel your game day excitement!
URL:https://hangrydog307.com/event/food-football-at-frontier-brewing-company/
LOCATION:Frontier Brewing Company & Taproom\, 150 W 2nd. Street\, Casper\, WY\, 82601\, United States
END:VEVENT
BEGIN:VEVENT
DTSTART;TZID=America/Denver:20241114T160000
DTEND;TZID=America/Denver:20241114T200000
DTSTAMP:20260423T160220
CREATED:20241031T231000Z
LAST-MODIFIED:20241031T231000Z
UID:284-1731600000-1731614400@hangrydog307.com
SUMMARY:Black Tooth Brewing - Casper
DESCRIPTION:Join us for dinner at Black Tooth Brewing – Casper for dinner\, beer and a good time.  We will be serving up goodies from 4-8pm.
URL:https://hangrydog307.com/event/black-tooth-brewing-casper-3/
LOCATION:Black Tooth Brewery – Casper\, 322 South David Street\, Suite A\, Casepr\, WY\, 82601\, United States
END:VEVENT
BEGIN:VEVENT
DTSTART;TZID=America/Denver:20241113T150000
DTEND;TZID=America/Denver:20241113T200000
DTSTAMP:20260423T160220
CREATED:20241031T233859Z
LAST-MODIFIED:20241031T233859Z
UID:305-1731510000-1731528000@hangrydog307.com
SUMMARY:Mountain Hops Brewhouse
DESCRIPTION:Come hang out with us and our friends at Mountain Hops Brewhouse.  We will be serving up tasty treats from 3-8pm.  Then head inside to see what they have on tap for your drinking pleasure!
URL:https://hangrydog307.com/event/mountain-hops-brewhouse-4/
LOCATION:Mountain Hops Brewhouse\, 612 N. Beverly\, Casper\, WY\, 82609\, United States
END:VEVENT
BEGIN:VEVENT
DTSTART;TZID=America/Denver:20241108T150000
DTEND;TZID=America/Denver:20241108T200000
DTSTAMP:20260423T160220
CREATED:20241031T233817Z
LAST-MODIFIED:20241031T233817Z
UID:303-1731078000-1731096000@hangrydog307.com
SUMMARY:Mountain Hops Brewhouse
DESCRIPTION:Come hang out with us and our friends at Mountain Hops Brewhouse.  We will be serving up tasty treats from 3-8pm.  Then head inside to see what they have on tap for your drinking pleasure!
URL:https://hangrydog307.com/event/mountain-hops-brewhouse-3/
LOCATION:Mountain Hops Brewhouse\, 612 N. Beverly\, Casper\, WY\, 82609\, United States
END:VEVENT
BEGIN:VEVENT
DTSTART;TZID=America/Denver:20241107T160000
DTEND;TZID=America/Denver:20241107T200000
DTSTAMP:20260423T160220
CREATED:20241031T230821Z
LAST-MODIFIED:20241031T230821Z
UID:282-1730995200-1731009600@hangrydog307.com
SUMMARY:Black Tooth Brewing - Casper
DESCRIPTION:Join us for dinner at Black Tooth Brewing – Casper for dinner\, beer and a good time.  We will be serving up goodies from 4-8pm.  Grab dinner with us\, and then head inside for a beer and trivia night!
URL:https://hangrydog307.com/event/black-tooth-brewing-casper-2/
LOCATION:Black Tooth Brewery – Casper\, 322 South David Street\, Suite A\, Casepr\, WY\, 82601\, United States
END:VEVENT
BEGIN:VEVENT
DTSTART;TZID=America/Denver:20241106T150000
DTEND;TZID=America/Denver:20241106T200000
DTSTAMP:20260423T160220
CREATED:20241031T233731Z
LAST-MODIFIED:20241031T233731Z
UID:301-1730905200-1730923200@hangrydog307.com
SUMMARY:Mountain Hops Brewhouse
DESCRIPTION:Come hang out with us and our friends at Mountain Hops Brewhouse.  We will be serving up tasty treats from 3-8pm.  Then head inside to see what they have on tap for your drinking pleasure!
URL:https://hangrydog307.com/event/mountain-hops-brewhouse-2/
LOCATION:Mountain Hops Brewhouse\, 612 N. Beverly\, Casper\, WY\, 82609\, United States
END:VEVENT
BEGIN:VEVENT
DTSTART;TZID=America/Denver:20241102T110000
DTEND;TZID=America/Denver:20241102T200000
DTSTAMP:20260423T160220
CREATED:20241031T232219Z
LAST-MODIFIED:20241031T232219Z
UID:295-1730545200-1730577600@hangrydog307.com
SUMMARY:Food\, Football and Beer and Frontier Brewing Company
DESCRIPTION:Game day excitement continues! Join us on November 2 at Frontier Brewing to watch as the Cowboys take on New Mexico in another BIG Screen Blitz event!\nBring your game day energy and enjoy the big screen action with friends\, craft brews\, and delicious bites from The Hangry Dog Food Truck. It’s the perfect way to spend your Saturday afternoon cheering on the Cowboys. See you at Frontier!
URL:https://hangrydog307.com/event/food-football-and-beer-and-frontier-brewing-company/
LOCATION:Frontier Brewing Company & Taproom\, 150 W 2nd. Street\, Casper\, WY\, 82601\, United States
END:VEVENT
BEGIN:VEVENT
DTSTART;TZID=America/Denver:20241101T160000
DTEND;TZID=America/Denver:20241101T200000
DTSTAMP:20260423T160220
CREATED:20241031T230525Z
LAST-MODIFIED:20241031T230525Z
UID:280-1730476800-1730491200@hangrydog307.com
SUMMARY:Black Tooth Brewing - Casper
DESCRIPTION:Join us for dinner at Black Tooth Brewing – Casper for dinner\, beer and a good time.  We will be serving up goodies from 4-8pm.  This event will raise money for the Elk Fire Relief\, donating $1 for every pint purchased.
URL:https://hangrydog307.com/event/black-tooth-brewing-casper/
LOCATION:Black Tooth Brewery – Casper\, 322 South David Street\, Suite A\, Casepr\, WY\, 82601\, United States
END:VEVENT
BEGIN:VEVENT
DTSTART;TZID=America/Denver:20241023T160000
DTEND;TZID=America/Denver:20241023T200000
DTSTAMP:20260423T160220
CREATED:20241003T193628Z
LAST-MODIFIED:20241003T193628Z
UID:278-1729699200-1729713600@hangrydog307.com
SUMMARY:Join us at Black Tooth Casper
DESCRIPTION:Come out and see us at Black Tooth for some Dinner\, Beer and Fun.  B-I-N-G-O\, 5 in a row and you get to call yourself a winner! Free to play and a prize for every round!
URL:https://hangrydog307.com/event/join-us-at-black-tooth-casper/
LOCATION:Black Tooth Brewery – Casper\, 322 South David Street\, Suite A\, Casepr\, WY\, 82601\, United States
END:VEVENT
END:VCALENDAR