BEGIN:VCALENDAR
VERSION:2.0
PRODID:-//The Hangry Dog - ECPv6.15.20//NONSGML v1.0//EN
CALSCALE:GREGORIAN
METHOD:PUBLISH
X-ORIGINAL-URL:https://hangrydog307.com
X-WR-CALDESC:Events for The Hangry Dog
REFRESH-INTERVAL;VALUE=DURATION:PT1H
X-Robots-Tag:noindex
X-PUBLISHED-TTL:PT1H
BEGIN:VTIMEZONE
TZID:America/Denver
BEGIN:DAYLIGHT
TZOFFSETFROM:-0700
TZOFFSETTO:-0600
TZNAME:MDT
DTSTART:20240310T090000
END:DAYLIGHT
BEGIN:STANDARD
TZOFFSETFROM:-0600
TZOFFSETTO:-0700
TZNAME:MST
DTSTART:20241103T080000
END:STANDARD
BEGIN:DAYLIGHT
TZOFFSETFROM:-0700
TZOFFSETTO:-0600
TZNAME:MDT
DTSTART:20250309T090000
END:DAYLIGHT
BEGIN:STANDARD
TZOFFSETFROM:-0600
TZOFFSETTO:-0700
TZNAME:MST
DTSTART:20251102T080000
END:STANDARD
BEGIN:DAYLIGHT
TZOFFSETFROM:-0700
TZOFFSETTO:-0600
TZNAME:MDT
DTSTART:20260308T090000
END:DAYLIGHT
BEGIN:STANDARD
TZOFFSETFROM:-0600
TZOFFSETTO:-0700
TZNAME:MST
DTSTART:20261101T080000
END:STANDARD
BEGIN:DAYLIGHT
TZOFFSETFROM:-0700
TZOFFSETTO:-0600
TZNAME:MDT
DTSTART:20270314T090000
END:DAYLIGHT
BEGIN:STANDARD
TZOFFSETFROM:-0600
TZOFFSETTO:-0700
TZNAME:MST
DTSTART:20271107T080000
END:STANDARD
END:VTIMEZONE
BEGIN:VEVENT
DTSTART;TZID=America/Denver:20250517T100000
DTEND;TZID=America/Denver:20250517T170000
DTSTAMP:20260425T191427
CREATED:20250501T010031Z
LAST-MODIFIED:20250501T010031Z
UID:344-1747476000-1747501200@hangrydog307.com
SUMMARY:Hangry Dog at 10th Anniversary Funky Junk
DESCRIPTION:Who’s ready for the Spring Funky Junk!!  We know we are!!  Join us at David Street Station for the 2025 Spring Funky Junk!!
URL:https://hangrydog307.com/event/hangry-dog-at-10th-anniversary-funky-junk/
LOCATION:Funky Junk\, 200 S. David St.\, Casper\, WY\, 82601\, United States
END:VEVENT
BEGIN:VEVENT
DTSTART;TZID=America/Denver:20250521T170000
DTEND;TZID=America/Denver:20250521T210000
DTSTAMP:20260425T191427
CREATED:20250501T001310Z
LAST-MODIFIED:20250501T001310Z
UID:333-1747846800-1747861200@hangrydog307.com
SUMMARY:Hot Dogs and Baseball @ Field of Dreams Baseball Complex
DESCRIPTION:What goes better with Baseball than a Hot Dog???  Yep\, we can’t think of anything else either!!  Come down to the Field of Dreams Baseball Complex and grab a hot dog and watch some youth baseball!
URL:https://hangrydog307.com/event/hot-dogs-and-baseball-field-of-dreams-baseball-complex-3/
LOCATION:Field of Dreams Baseball Complex\, 1355 E K Street\, Casper\, WY\, 82601\, United States
END:VEVENT
BEGIN:VEVENT
DTSTART;TZID=America/Denver:20250522T160000
DTEND;TZID=America/Denver:20250522T200000
DTSTAMP:20260425T191427
CREATED:20250501T005317Z
LAST-MODIFIED:20250501T005317Z
UID:340-1747929600-1747944000@hangrydog307.com
SUMMARY:Hangry Dog @ Black Tooth Brewery - Casper
DESCRIPTION:Come out and see us at Black Tooth Brewery in Casper and grab some dinner\, then head inside for a beer and Trivia!
URL:https://hangrydog307.com/event/hangry-dog-black-tooth-brewery-casper-2/
LOCATION:Black Tooth Brewery – Casper\, 322 South David Street\, Suite A\, Casepr\, WY\, 82601\, United States
END:VEVENT
BEGIN:VEVENT
DTSTART;TZID=America/Denver:20250523T150000
DTEND;TZID=America/Denver:20250523T200000
DTSTAMP:20260425T191427
CREATED:20250501T010645Z
LAST-MODIFIED:20250501T010645Z
UID:347-1748012400-1748030400@hangrydog307.com
SUMMARY:The Hangry dog AND Zack Scott @ Frontier Brewing
DESCRIPTION:Join us at Frontier Brewing Co. for some dinner and then head inside and grab a beer and listen to Zack Scott play some amazing music!
URL:https://hangrydog307.com/event/the-hangry-dog-and-zack-scott-frontier-brewing/
LOCATION:Frontier Brewing Company & Taproom\, 150 W 2nd. Street\, Casper\, WY\, 82601\, United States
END:VEVENT
BEGIN:VEVENT
DTSTART;TZID=America/Denver:20250716T160000
DTEND;TZID=America/Denver:20250716T200000
DTSTAMP:20260425T191427
CREATED:20250714T215638Z
LAST-MODIFIED:20250714T215638Z
UID:352-1752681600-1752696000@hangrydog307.com
SUMMARY:Food Truck Food Court @ Oil City Beer Company
DESCRIPTION:Join us and other favorite food trucks for your weekly Food Truck Food Court at Oil City Beer Company from 4-8pm.
URL:https://hangrydog307.com/event/food-truck-food-court-oil-city-beer-company-3/
LOCATION:WY
END:VEVENT
BEGIN:VEVENT
DTSTART;TZID=America/Denver:20250717T160000
DTEND;TZID=America/Denver:20250717T200000
DTSTAMP:20260425T191427
CREATED:20250714T220129Z
LAST-MODIFIED:20250714T220129Z
UID:356-1752768000-1752782400@hangrydog307.com
SUMMARY:Dinner\, Beer and Music @ Black Tooth - Casper
DESCRIPTION:Join us at Black Tooth Casper and let us feed you dinner before you head inside for a beer and to listen to music by Jay Stott Solo.
URL:https://hangrydog307.com/event/dinner-beer-and-music-black-tooth-casper/
LOCATION:Black Tooth Brewery – Casper\, 322 South David Street\, Suite A\, Casepr\, WY\, 82601\, United States
END:VEVENT
BEGIN:VEVENT
DTSTART;TZID=America/Denver:20250718T170000
DTEND;TZID=America/Denver:20250718T200000
DTSTAMP:20260425T191427
CREATED:20250714T222244Z
LAST-MODIFIED:20250714T222244Z
UID:358-1752858000-1752868800@hangrydog307.com
SUMMARY:Casper Celtic Irish Festival @ The Nic
DESCRIPTION:
URL:https://hangrydog307.com/event/casper-celtic-irish-festival-the-nic/
LOCATION:WY
END:VEVENT
BEGIN:VEVENT
DTSTART;TZID=America/Denver:20250719T100000
DTEND;TZID=America/Denver:20250719T150000
DTSTAMP:20260425T191427
CREATED:20250714T222943Z
LAST-MODIFIED:20250714T222943Z
UID:363-1752919200-1752937200@hangrydog307.com
SUMMARY:Bar Nunn Annual Car Show
DESCRIPTION:The Car Show will start at 10 am to 3pm on July 19th. Located at Antelope Park in Bar Nunn. Here you will find vendors\, food trucks\, and some of the greatest vehicles in history!
URL:https://hangrydog307.com/event/bar-nunn-annual-car-show/
LOCATION:Antelope Park – Bar Nunn\, Arena Street\, Bar Nunn\, WY\, 82601
END:VEVENT
BEGIN:VEVENT
DTSTART;TZID=America/Denver:20250719T170000
DTEND;TZID=America/Denver:20250719T200000
DTSTAMP:20260425T191427
CREATED:20250714T222445Z
LAST-MODIFIED:20250714T222445Z
UID:360-1752944400-1752955200@hangrydog307.com
SUMMARY:Casper Celtic Irish Festival @ The Nic
DESCRIPTION:
URL:https://hangrydog307.com/event/casper-celtic-irish-festival-the-nic-2/
LOCATION:WY
END:VEVENT
BEGIN:VEVENT
DTSTART;TZID=America/Denver:20250730T160000
DTEND;TZID=America/Denver:20250730T200000
DTSTAMP:20260425T191427
CREATED:20250714T215822Z
LAST-MODIFIED:20250714T215822Z
UID:354-1753891200-1753905600@hangrydog307.com
SUMMARY:Food Truck Wednesday @ Oil City Beer Company
DESCRIPTION:Join us and other favorite food trucks for your weekly Food Truck Food Court at Oil City Beer Company from 4-8pm.
URL:https://hangrydog307.com/event/food-truck-wednesday-oil-city-beer-company/
LOCATION:WY
END:VEVENT
BEGIN:VEVENT
DTSTART;TZID=America/Denver:20260418T113000
DTEND;TZID=America/Denver:20260418T200000
DTSTAMP:20260425T191427
CREATED:20260414T001346Z
LAST-MODIFIED:20260414T001346Z
UID:367-1776511800-1776542400@hangrydog307.com
SUMMARY:Opening Day at Black Tooth Brewery 4-8
DESCRIPTION:Come out and join us for our first day out of the 2026 Season!  We will be serving up delicious dogs for your enjoyment from 11:30 – 8.
URL:https://hangrydog307.com/event/opening-day-at-black-tooth-brewery-4-8/
LOCATION:Black Tooth Brewery – Casper\, 322 South David Street\, Suite A\, Casepr\, WY\, 82601\, United States
END:VEVENT
BEGIN:VEVENT
DTSTART;TZID=America/Denver:20260419T170000
DTEND;TZID=America/Denver:20260419T200000
DTSTAMP:20260425T191427
CREATED:20260414T001723Z
LAST-MODIFIED:20260414T001723Z
UID:369-1776618000-1776628800@hangrydog307.com
SUMMARY:Backwards Distillery - Dinner and Drinks
DESCRIPTION:Come on out on Sunday and get some dinner with us outside of Backwards Distillery.
URL:https://hangrydog307.com/event/backwards-distillery-dinner-and-drinks/
LOCATION:Backwards Distillery\, 214 S Wolcott St.\, Casper\, WY\, 82609\, United States
END:VEVENT
BEGIN:VEVENT
DTSTART;TZID=America/Denver:20260422T160000
DTEND;TZID=America/Denver:20260422T200000
DTSTAMP:20260425T191427
CREATED:20260414T001934Z
LAST-MODIFIED:20260414T001934Z
UID:372-1776873600-1776888000@hangrydog307.com
SUMMARY:Bingo\, Beer and Best Hot Dogs at Black Tooth Brewery
DESCRIPTION:Come out and join us at Black Tooth Brewery Wednesday for Dinner and Bingo and head inside for an ice cold beer!
URL:https://hangrydog307.com/event/bingo-beer-and-best-hot-dogs-at-black-tooth-brewery/
LOCATION:Black Tooth Brewery – Casper\, 322 South David Street\, Suite A\, Casepr\, WY\, 82601\, United States
END:VEVENT
BEGIN:VEVENT
DTSTART;TZID=America/Denver:20260424T170000
DTEND;TZID=America/Denver:20260424T200000
DTSTAMP:20260425T191427
CREATED:20260414T002227Z
LAST-MODIFIED:20260414T002227Z
UID:374-1777050000-1777060800@hangrydog307.com
SUMMARY:Ft. Casper Academy - Open House
DESCRIPTION:
URL:https://hangrydog307.com/event/ft-casper-academy-open-house/
LOCATION:Ft. Casper Academy\, 4100 W. 38th St\, Casper\, WY\, 82604\, United States
END:VEVENT
BEGIN:VEVENT
DTSTART;TZID=America/Denver:20260429T160000
DTEND;TZID=America/Denver:20260429T190000
DTSTAMP:20260425T191427
CREATED:20260414T002443Z
LAST-MODIFIED:20260414T002443Z
UID:377-1777478400-1777489200@hangrydog307.com
SUMMARY:Black Tooth Brewery
DESCRIPTION:Come out and let us feed you dinner while you hang out at Black Tooth Brewery.  Enjoy the beginning of summer on the patio\, or head inside and play some board games or just enjoy the company of all the wonderful people.
URL:https://hangrydog307.com/event/black-tooth-brewery/
LOCATION:Black Tooth Brewery – Casper\, 322 South David Street\, Suite A\, Casepr\, WY\, 82601\, United States
END:VEVENT
END:VCALENDAR