BEGIN:VCALENDAR
VERSION:2.0
PRODID:-//The Hangry Dog - ECPv6.15.20//NONSGML v1.0//EN
CALSCALE:GREGORIAN
METHOD:PUBLISH
X-WR-CALNAME:The Hangry Dog
X-ORIGINAL-URL:https://hangrydog307.com
X-WR-CALDESC:Events for The Hangry Dog
REFRESH-INTERVAL;VALUE=DURATION:PT1H
X-Robots-Tag:noindex
X-PUBLISHED-TTL:PT1H
BEGIN:VTIMEZONE
TZID:America/Denver
BEGIN:DAYLIGHT
TZOFFSETFROM:-0700
TZOFFSETTO:-0600
TZNAME:MDT
DTSTART:20230312T090000
END:DAYLIGHT
BEGIN:STANDARD
TZOFFSETFROM:-0600
TZOFFSETTO:-0700
TZNAME:MST
DTSTART:20231105T080000
END:STANDARD
BEGIN:DAYLIGHT
TZOFFSETFROM:-0700
TZOFFSETTO:-0600
TZNAME:MDT
DTSTART:20240310T090000
END:DAYLIGHT
BEGIN:STANDARD
TZOFFSETFROM:-0600
TZOFFSETTO:-0700
TZNAME:MST
DTSTART:20241103T080000
END:STANDARD
BEGIN:DAYLIGHT
TZOFFSETFROM:-0700
TZOFFSETTO:-0600
TZNAME:MDT
DTSTART:20250309T090000
END:DAYLIGHT
BEGIN:STANDARD
TZOFFSETFROM:-0600
TZOFFSETTO:-0700
TZNAME:MST
DTSTART:20251102T080000
END:STANDARD
END:VTIMEZONE
BEGIN:VEVENT
DTSTART;TZID=America/Denver:20241102T110000
DTEND;TZID=America/Denver:20241102T200000
DTSTAMP:20260423T172932
CREATED:20241031T232219Z
LAST-MODIFIED:20241031T232219Z
UID:295-1730545200-1730577600@hangrydog307.com
SUMMARY:Food\, Football and Beer and Frontier Brewing Company
DESCRIPTION:Game day excitement continues! Join us on November 2 at Frontier Brewing to watch as the Cowboys take on New Mexico in another BIG Screen Blitz event!\nBring your game day energy and enjoy the big screen action with friends\, craft brews\, and delicious bites from The Hangry Dog Food Truck. It’s the perfect way to spend your Saturday afternoon cheering on the Cowboys. See you at Frontier!
URL:https://hangrydog307.com/event/food-football-and-beer-and-frontier-brewing-company/
LOCATION:Frontier Brewing Company & Taproom\, 150 W 2nd. Street\, Casper\, WY\, 82601\, United States
END:VEVENT
BEGIN:VEVENT
DTSTART;TZID=America/Denver:20241101T160000
DTEND;TZID=America/Denver:20241101T200000
DTSTAMP:20260423T172932
CREATED:20241031T230525Z
LAST-MODIFIED:20241031T230525Z
UID:280-1730476800-1730491200@hangrydog307.com
SUMMARY:Black Tooth Brewing - Casper
DESCRIPTION:Join us for dinner at Black Tooth Brewing – Casper for dinner\, beer and a good time.  We will be serving up goodies from 4-8pm.  This event will raise money for the Elk Fire Relief\, donating $1 for every pint purchased.
URL:https://hangrydog307.com/event/black-tooth-brewing-casper/
LOCATION:Black Tooth Brewery – Casper\, 322 South David Street\, Suite A\, Casepr\, WY\, 82601\, United States
END:VEVENT
BEGIN:VEVENT
DTSTART;TZID=America/Denver:20241023T160000
DTEND;TZID=America/Denver:20241023T200000
DTSTAMP:20260423T172932
CREATED:20241003T193628Z
LAST-MODIFIED:20241003T193628Z
UID:278-1729699200-1729713600@hangrydog307.com
SUMMARY:Join us at Black Tooth Casper
DESCRIPTION:Come out and see us at Black Tooth for some Dinner\, Beer and Fun.  B-I-N-G-O\, 5 in a row and you get to call yourself a winner! Free to play and a prize for every round!
URL:https://hangrydog307.com/event/join-us-at-black-tooth-casper/
LOCATION:Black Tooth Brewery – Casper\, 322 South David Street\, Suite A\, Casepr\, WY\, 82601\, United States
END:VEVENT
BEGIN:VEVENT
DTSTART;TZID=America/Denver:20241011T150000
DTEND;TZID=America/Denver:20241011T200000
DTSTAMP:20260423T172932
CREATED:20241003T193457Z
LAST-MODIFIED:20241003T193457Z
UID:276-1728658800-1728676800@hangrydog307.com
SUMMARY:Dogs and Beer at Mountain Hops Brewhouse
DESCRIPTION:Come out and see us Friday at Mountain Hops Brewhouse.
URL:https://hangrydog307.com/event/dogs-and-beer-at-mountain-hops-brewhouse/
LOCATION:Mountain Hops Brewhouse\, 612 N. Beverly\, Casper\, WY\, 82609\, United States
END:VEVENT
BEGIN:VEVENT
DTSTART;TZID=America/Denver:20241009T160000
DTEND;TZID=America/Denver:20241009T200000
DTSTAMP:20260423T172932
CREATED:20241003T193353Z
LAST-MODIFIED:20241003T193353Z
UID:274-1728489600-1728504000@hangrydog307.com
SUMMARY:Dinner\, Beer and Bingo at Black Tooth Casper
DESCRIPTION:Come out and see us and have a little fun while you eat.  B-I-N-G-O\, 5 in a row and you get to call yourself a winner!Free to play and a prize for every round!
URL:https://hangrydog307.com/event/dinner-beer-and-bingo-at-black-tooth-casper/
LOCATION:Black Tooth Brewery – Casper\, 322 South David Street\, Suite A\, Casepr\, WY\, 82601\, United States
END:VEVENT
BEGIN:VEVENT
DTSTART;TZID=America/Denver:20241004T150000
DTEND;TZID=America/Denver:20241004T200000
DTSTAMP:20260423T172932
CREATED:20241003T192947Z
LAST-MODIFIED:20241003T192947Z
UID:269-1728054000-1728072000@hangrydog307.com
SUMMARY:Dreams and Dogs at Mountain Hops Brewhouse
DESCRIPTION:What is better than dogs? How about a taste of summer with the fall release of Livin The Dreamsicle!!!Nothing like a dog and a beer!!See you at the Brewhouse.
URL:https://hangrydog307.com/event/dreams-and-dogs-at-mountain-hops-brewhouse/
LOCATION:Mountain Hops Brewhouse\, 612 N. Beverly\, Casper\, WY\, 82609\, United States
END:VEVENT
BEGIN:VEVENT
DTSTART;TZID=America/Denver:20241003T160000
DTEND;TZID=America/Denver:20241003T200000
DTSTAMP:20260423T172932
CREATED:20241003T192814Z
LAST-MODIFIED:20241003T192814Z
UID:267-1727971200-1727985600@hangrydog307.com
SUMMARY:Dogs\, Trivia and Beer at Black Tooth Casper
DESCRIPTION:Join us for dinner from 4-8 pm and then head inside for some beer and trivia.
URL:https://hangrydog307.com/event/dogs-trivia-and-beer-at-black-tooth-casper/
LOCATION:Black Tooth Brewery – Casper\, 322 South David Street\, Suite A\, Casepr\, WY\, 82601\, United States
END:VEVENT
BEGIN:VEVENT
DTSTART;TZID=America/Denver:20241003T080000
DTEND;TZID=America/Denver:20241003T170000
DTSTAMP:20260423T172932
CREATED:20241003T193136Z
LAST-MODIFIED:20241003T193136Z
UID:271-1727942400-1727974800@hangrydog307.com
SUMMARY:Bar Nunn Fall Fest
DESCRIPTION:Come celebrate the amazing colors\, crisp air\, and spirit of fall with us! \nWe will be hosting our 5th Annual Fall Fest at Antelope Park in Bar Nunn\, Wyoming October 5th\, 2024 from 10:00am-3:00pm! Free to public! We are still looking for vendors for this event!\nWe will have;VendorsFood trucksFace paintingPumpkin patchPumpkin painting centerHot chocolate and cookiesFall Photo BoothBounce housesFire education tent\nCome join us for this amazing event!
URL:https://hangrydog307.com/event/bar-nunn-fall-fest/
LOCATION:Antelope Park – Bar Nunn\, Arena Street\, Bar Nunn\, WY\, 82601
END:VEVENT
BEGIN:VEVENT
DTSTART;TZID=America/Denver:20240927T150000
DTEND;TZID=America/Denver:20240927T200000
DTSTAMP:20260423T172932
CREATED:20240903T210122Z
LAST-MODIFIED:20240903T210122Z
UID:257-1727449200-1727467200@hangrydog307.com
SUMMARY:Dinner and Beer @Mountain Hops Brewhouse
DESCRIPTION:Join us at Mountain Hops Brewhouse and enjoy the last of the warm days with some dinner and a cold brew on the patio (or inside).  We will be serving up some goodness from 3-8pm.  See you there!
URL:https://hangrydog307.com/event/dinner-and-beer-mountain-hops-brewhouse/
LOCATION:Mountain Hops Brewhouse\, 612 N. Beverly\, Casper\, WY\, 82609\, United States
END:VEVENT
BEGIN:VEVENT
DTSTART;TZID=America/Denver:20240926T160000
DTEND;TZID=America/Denver:20240926T200000
DTSTAMP:20260423T172932
CREATED:20240903T204841Z
LAST-MODIFIED:20240903T204841Z
UID:251-1727366400-1727380800@hangrydog307.com
SUMMARY:@Black Tooth for Dinner and Community Pint Night
DESCRIPTION:Join us for dinner form 4-8pm.  Then head inside from 3-10pm for a cold beer.  $1 from every pint sold will be donated to David Street Station. If you appreciate all that this venue does for our community and want to show your support\, now is the chance! Great beer for a great cause!
URL:https://hangrydog307.com/event/black-tooth-for-dinner-and-community-pint-night/
LOCATION:Black Tooth Brewery – Casper\, 322 South David Street\, Suite A\, Casepr\, WY\, 82601\, United States
END:VEVENT
BEGIN:VEVENT
DTSTART;TZID=America/Denver:20240921T100000
DTEND;TZID=America/Denver:20240921T170000
DTSTAMP:20260423T172932
CREATED:20240903T211626Z
LAST-MODIFIED:20240903T211626Z
UID:265-1726912800-1726938000@hangrydog307.com
SUMMARY:Funky Junk - Fall 2024
DESCRIPTION:We are gearing up for the fall edition of our favorite event! Join us for another greet day filled with artisan vendors\, great music\, delicious foods and beverages and all the good vibes!  We will be set up on Durbin St. between 6th & 5th streets.
URL:https://hangrydog307.com/event/funky-junk-fall-2024/
LOCATION:WY
END:VEVENT
BEGIN:VEVENT
DTSTART;TZID=America/Denver:20240919T160000
DTEND;TZID=America/Denver:20240919T200000
DTSTAMP:20260423T172932
CREATED:20240903T204254Z
LAST-MODIFIED:20240903T204254Z
UID:249-1726761600-1726776000@hangrydog307.com
SUMMARY:@Black Tooth for Dinner\, Beer and Trivia
DESCRIPTION:Join us at Black Tooth Brewing for Dinner with us from 4-8 and cold beer inside!!  Then grab your friends\, a fun team name and crush the competition with a new theme every time so watch for the post that reveals this weeks theme!! Questions start flying at 6pm!!
URL:https://hangrydog307.com/event/black-tooth-for-dinner-beer-and-trivia/
LOCATION:Black Tooth Brewery – Casper\, 322 South David Street\, Suite A\, Casepr\, WY\, 82601\, United States
END:VEVENT
BEGIN:VEVENT
DTSTART;TZID=America/Denver:20240918T160000
DTEND;TZID=America/Denver:20240918T200000
DTSTAMP:20260423T172932
CREATED:20240903T204028Z
LAST-MODIFIED:20240903T204028Z
UID:247-1726675200-1726689600@hangrydog307.com
SUMMARY:@Black Tooth Casper for Dinner and Haunted Terrariums from Artisan Alley
DESCRIPTION:Meet at Black Tooth Brewing on Wednesday\, September 18.  Start out with Dinner from The Hangry Dog from 4-8pm.  Then at 6:30pm make a Haunted Terrarium. Spooky Scary Pumpkin Season is upon us and no home is complete with a ghoulish terrarium emitting all the spooky vibes. 21 and older! Register online or call 307-265-0991 to reserve seats.
URL:https://hangrydog307.com/event/black-tooth-casper-for-dinner-and-haunted-terrariums-from-artisan-alley/
LOCATION:Black Tooth Brewery – Casper\, 322 South David Street\, Suite A\, Casepr\, WY\, 82601\, United States
END:VEVENT
BEGIN:VEVENT
DTSTART;TZID=America/Denver:20240917T163000
DTEND;TZID=America/Denver:20240917T190000
DTSTAMP:20260423T172932
CREATED:20240903T211246Z
LAST-MODIFIED:20240903T211246Z
UID:262-1726590600-1726599600@hangrydog307.com
SUMMARY:Hangry Dog @Casper College Fall Festival
DESCRIPTION:We will be serving dinner to students and faculty at this years welcome back Fall Festival at Casper College.
URL:https://hangrydog307.com/event/hangry-dog-casper-college-fall-festival/
LOCATION:Casper College\, 125 College Dr.\, Casper\, WY\, 82601\, United States
END:VEVENT
BEGIN:VEVENT
DTSTART;TZID=America/Denver:20240914T110000
DTEND;TZID=America/Denver:20240914T200000
DTSTAMP:20260423T172932
CREATED:20240903T210703Z
LAST-MODIFIED:20240903T210804Z
UID:259-1726311600-1726344000@hangrydog307.com
SUMMARY:Dinner\, Football and Music @Frontier Brewing Co.
DESCRIPTION:Come down to Frontier Brewing Co. for a fun packed day.  We will be serving up lunch and dinner from 11:00-8:00. \nYou can head inside for another Cowboys game on the GIANT screen! We’re excited to cheer on UW as they take on BYU on Saturday\, September 14 at 7pm. Go Pokes! \nAlso\, Zack Scott is BACK at Frontier! He will be playing at 8pm\, so join us for smooth tunes from this local favorite.  Don’t forger to grab some dinner from the Hangry Dog Food before you head inside. See you at Frontier!
URL:https://hangrydog307.com/event/259/
LOCATION:Frontier Brewing Company & Taproom\, 150 W 2nd. Street\, Casper\, WY\, 82601\, United States
END:VEVENT
BEGIN:VEVENT
DTSTART;TZID=America/Denver:20240913T150000
DTEND;TZID=America/Denver:20240913T200000
DTSTAMP:20260423T172932
CREATED:20240903T210028Z
LAST-MODIFIED:20240903T210028Z
UID:254-1726239600-1726257600@hangrydog307.com
SUMMARY:@Mountain Hops Brewhouse
DESCRIPTION:Join us at Mountain Hops Brewhouse and enjoy the last of the warm days with some dinner and a cold brew on the patio (or inside).  We will be serving up some goodness from 3-8pm.  See you there!
URL:https://hangrydog307.com/event/mountain-hops-brewhouse/
LOCATION:Mountain Hops Brewhouse\, 612 N. Beverly\, Casper\, WY\, 82609\, United States
END:VEVENT
BEGIN:VEVENT
DTSTART;TZID=America/Denver:20240911T160000
DTEND;TZID=America/Denver:20240911T200000
DTSTAMP:20260423T172932
CREATED:20240903T203642Z
LAST-MODIFIED:20240903T203642Z
UID:245-1726070400-1726084800@hangrydog307.com
SUMMARY:@Black Tooth Brewing Casper for Dinner and Bingo
DESCRIPTION:Join us on September 11th for dinner\, bingo and beer at Black Tooth Brewing in Casper.  We will be serving up dinner from 4-8pm\, bingo starts at 7pm!
URL:https://hangrydog307.com/event/black-tooth-brewing-casper-for-dinner-and-bingo/
LOCATION:Black Tooth Brewery – Casper\, 322 South David Street\, Suite A\, Casepr\, WY\, 82601\, United States
END:VEVENT
BEGIN:VEVENT
DTSTART;TZID=America/Denver:20240905T150000
DTEND;TZID=America/Denver:20240905T200000
DTSTAMP:20260423T172932
CREATED:20240903T201348Z
LAST-MODIFIED:20240903T201348Z
UID:243-1725548400-1725566400@hangrydog307.com
SUMMARY:@Frontier Brewing Co. for Art Walk and NFL on the BIG Screen!
DESCRIPTION:Join us at Frontier Brewing Co. Downtown for the last art walk of the season!  Grab some dinner then head inside for a cold beer and to watch the Ravens and the Chiefs face off on the Big Screen at 6:20pm.
URL:https://hangrydog307.com/event/frontier-brewing-co-for-art-walk-and-nfl-on-the-big-screen/
LOCATION:Frontier Brewing Company & Taproom\, 150 W 2nd. Street\, Casper\, WY\, 82601\, United States
END:VEVENT
BEGIN:VEVENT
DTSTART;TZID=America/Denver:20240828T160000
DTEND;TZID=America/Denver:20240828T200000
DTSTAMP:20260423T172932
CREATED:20240730T085352Z
LAST-MODIFIED:20240730T085352Z
UID:231-1724860800-1724875200@hangrydog307.com
SUMMARY:Food Truck Food Court - Oil City Beer Company
DESCRIPTION:Come join us and our other food truck friends at Oil City Beer Company for another food truck food court.
URL:https://hangrydog307.com/event/food-truck-food-court-oil-city-beer-company-2/
LOCATION:Oil City Beer Company\, 4155 Legion Ln.\, Casper\, WY\, 82609\, United States
END:VEVENT
BEGIN:VEVENT
DTSTART;TZID=America/Denver:20240825T110000
DTEND;TZID=America/Denver:20240825T153000
DTSTAMP:20260423T172932
CREATED:20240730T084837Z
LAST-MODIFIED:20240730T084837Z
UID:225-1724583600-1724599800@hangrydog307.com
SUMMARY:Corvette Club Car Show @ The Fair Grounds
DESCRIPTION:There will be lots to see and eat Sunday at the fair grounds as over 300 Corvettes will be traveling through Casper and making a pit stop at the Central Wyoming Fair Grounds.  The cars will be rotating in and out from 11am till 3 or 4pm.  Come down and grab some lunch from us and check out all of the awesome cars.  We will be there along with 4-5 other food trucks.
URL:https://hangrydog307.com/event/corvette-club-car-show-the-fair-grounds/
LOCATION:Central Wyoming Fairgrounds\, 1700 Fairgrounds Rd\, Casper\, WY\, 82604\, United States
END:VEVENT
BEGIN:VEVENT
DTSTART;TZID=America/Denver:20240824T173000
DTEND;TZID=America/Denver:20240824T210000
DTSTAMP:20260423T172932
CREATED:20240730T014918Z
LAST-MODIFIED:20240730T085151Z
UID:221-1724520600-1724533200@hangrydog307.com
SUMMARY:Pops in the Park - By Wyoming Symphony Orchestra
DESCRIPTION:Join us at Washington Park for the 2024 Pops in the Park.  Visit us and our food truck friends for good eats and music.  This event does require you to purchase tickets from the Wyoming Symphony Orchestra. \nEnjoy a night in the park\, shaken not stirred. Immerse yourself in “Bond and Beyond” with captivating performances of James Bond theme songs by the Wyoming Symphony Orchestra\, with vocals by soloist\, Morgan James. From Goldfinger to Goldeneye (and more)\, enjoy a daringly good time with music from five decades of Bond films\, featuring iconic songwriters like Shirley Bassey\, Paul McCartney\, Carly Simon\, and Adele. \nPops in the Park will feature guest soloist and Broadway actress\, Morgan James\, to bring to life iconic James Bond theme songs. Through her strong and soulful voice\, James has established herself as a touring powerhouse\, playing with her own band and symphony orchestras all over the world. She has been deemed by the Wall Street Journal as “the most promising young vocalist to come along so far this century\,” and guests will get to witness her vocals live at this year’s Pops in the Park.
URL:https://hangrydog307.com/event/pops-in-the-park-by-wyoming-symphony-orchestra/
LOCATION:Washington Park\, 951 S. Jefferson St.\, Casper\, WY\, 82601\, United States
END:VEVENT
BEGIN:VEVENT
DTSTART;TZID=America/Denver:20240823T160000
DTEND;TZID=America/Denver:20240823T203000
DTSTAMP:20260423T172932
CREATED:20240814T190831Z
LAST-MODIFIED:20240814T190831Z
UID:240-1724428800-1724445000@hangrydog307.com
SUMMARY:Casper Christian School Concert
DESCRIPTION:We will be at the Casper Christian School Friday August 23rd from 4-8:30.  Join us for dinner and music.
URL:https://hangrydog307.com/event/casper-christian-school-concert/
LOCATION:Casper Christian School\, 411 S Walsh Dr.\, Casper\, WY\, 82609\, United States
END:VEVENT
BEGIN:VEVENT
DTSTART;TZID=America/Denver:20240822T120000
DTEND;TZID=America/Denver:20240822T180000
DTSTAMP:20260423T172932
CREATED:20240814T190614Z
LAST-MODIFIED:20240814T190614Z
UID:237-1724328000-1724349600@hangrydog307.com
SUMMARY:Feeding you with a Smile! @ Smile Doctors
DESCRIPTION:Join us for  some lunch or dinner at the Smile Doctors from 12-6.
URL:https://hangrydog307.com/event/feeding-you-with-a-smile-smile-doctors/
LOCATION:Smile Doctors Orthodontics\, 5281 E 2nd Street\, Casper\, WY\, 82609\, United States
END:VEVENT
BEGIN:VEVENT
DTSTART;TZID=America/Denver:20240821T160000
DTEND;TZID=America/Denver:20240821T200000
DTSTAMP:20260423T172932
CREATED:20240814T190341Z
LAST-MODIFIED:20240814T190341Z
UID:235-1724256000-1724270400@hangrydog307.com
SUMMARY:Black Tooth Brewery - Casper
DESCRIPTION:Come down and have dinner with us and a beer at Black Tooth.  We will be serving up good eats from 4-8pm.
URL:https://hangrydog307.com/event/black-tooth-brewery-casper-6/
LOCATION:Black Tooth Brewery – Casper\, 322 South David Street\, Suite A\, Casepr\, WY\, 82601\, United States
END:VEVENT
BEGIN:VEVENT
DTSTART;TZID=America/Denver:20240817T120000
DTEND;TZID=America/Denver:20240817T200000
DTSTAMP:20260423T172932
CREATED:20240730T012018Z
LAST-MODIFIED:20240730T012018Z
UID:217-1723896000-1723924800@hangrydog307.com
SUMMARY:Food and Live Music @ Black Tooth Brewery - Casper
DESCRIPTION:Come to downtown Casper and enjoy all the festivities that will be happening.  We will be parked at Black Tooth Brewery from 12 – 8 serving you up lunch and dinner.  They will have the Wyoming Wayfinders playing some great music for your listening pleasure starting at 7pm.
URL:https://hangrydog307.com/event/food-and-live-music-black-tooth-brewery-casper/
LOCATION:Black Tooth Brewery – Casper\, 322 South David Street\, Suite A\, Casepr\, WY\, 82601\, United States
END:VEVENT
BEGIN:VEVENT
DTSTART;TZID=America/Denver:20240816T150000
DTEND;TZID=America/Denver:20240816T200000
DTSTAMP:20260423T172932
CREATED:20240730T012802Z
LAST-MODIFIED:20240730T012802Z
UID:219-1723820400-1723838400@hangrydog307.com
SUMMARY:Food\, Music and Beer at Frontier Brewing Company
DESCRIPTION:Join us at Frontier on Friday August 16 for some good food and beer at Frontier Brewing Company and stay and listen to Todd n’ Mandi starting at 6pm.
URL:https://hangrydog307.com/event/food-music-and-beer-at-frontier-brewing-company/
LOCATION:Frontier Brewing Company & Taproom\, 150 W 2nd. Street\, Casper\, WY\, 82601\, United States
END:VEVENT
BEGIN:VEVENT
DTSTART;TZID=America/Denver:20240815T160000
DTEND;TZID=America/Denver:20240815T200000
DTSTAMP:20260423T172932
CREATED:20240814T190147Z
LAST-MODIFIED:20240814T190147Z
UID:233-1723737600-1723752000@hangrydog307.com
SUMMARY:Black Tooth Brewery - Casper
DESCRIPTION:Come on down to Black Tooth Brewery in Casper on Thursday for some good eats and good music from Shake Down County.
URL:https://hangrydog307.com/event/black-tooth-brewery-casper-5/
LOCATION:Black Tooth Brewery – Casper\, 322 South David Street\, Suite A\, Casepr\, WY\, 82601\, United States
END:VEVENT
BEGIN:VEVENT
DTSTART;TZID=America/Denver:20240814T160000
DTEND;TZID=America/Denver:20240814T200000
DTSTAMP:20260423T172932
CREATED:20240730T002833Z
LAST-MODIFIED:20240730T002833Z
UID:215-1723651200-1723665600@hangrydog307.com
SUMMARY:Food Truck Food Court - Oil City Beer Company
DESCRIPTION:We will be at Oil City Beer Company with some of our friends enjoying good food\, music and people.  Join us from 4-8 pm.
URL:https://hangrydog307.com/event/food-truck-food-court-oil-city-beer-company/
LOCATION:Oil City Beer Company\, 4155 Legion Ln.\, Casper\, WY\, 82609\, United States
END:VEVENT
BEGIN:VEVENT
DTSTART;TZID=America/Denver:20240810T100000
DTEND;TZID=America/Denver:20240810T160000
DTSTAMP:20260423T172932
CREATED:20240730T002616Z
LAST-MODIFIED:20240730T002616Z
UID:211-1723284000-1723305600@hangrydog307.com
SUMMARY:Central Wyoming Artists & Makers Festival
DESCRIPTION:Join us at Freden Park in Mills for this summers Central Wyoming Artists & Makers Festival from 10 am to 4 pm.  We will be serving you good food along with other food trucks while you check out local artists and what they do.
URL:https://hangrydog307.com/event/central-wyoming-artists-makers-festival/
LOCATION:Freden Park\, 800 Pendell Boulevard\, Mills\, WY\, 82604\, United States
END:VEVENT
BEGIN:VEVENT
DTSTART;TZID=America/Denver:20240809T110000
DTEND;TZID=America/Denver:20240809T130000
DTSTAMP:20260423T172932
CREATED:20240730T001808Z
LAST-MODIFIED:20240730T001808Z
UID:209-1723201200-1723208400@hangrydog307.com
SUMMARY:Lunch at the True Buildings
DESCRIPTION:Come on over to the True Companies building from 11-1pm and we would be happy to serve you up some tasty food for lunch!
URL:https://hangrydog307.com/event/lunch-at-the-true-buildings/
LOCATION:True Company\, 455 N. Poplar Street\, Casper\, WY\, 82601\, United States
END:VEVENT
END:VCALENDAR