BEGIN:VCALENDAR
VERSION:2.0
PRODID:-//The Hangry Dog - ECPv6.15.20//NONSGML v1.0//EN
CALSCALE:GREGORIAN
METHOD:PUBLISH
X-WR-CALNAME:The Hangry Dog
X-ORIGINAL-URL:https://hangrydog307.com
X-WR-CALDESC:Events for The Hangry Dog
REFRESH-INTERVAL;VALUE=DURATION:PT1H
X-Robots-Tag:noindex
X-PUBLISHED-TTL:PT1H
BEGIN:VTIMEZONE
TZID:America/Denver
BEGIN:DAYLIGHT
TZOFFSETFROM:-0700
TZOFFSETTO:-0600
TZNAME:MDT
DTSTART:20230312T090000
END:DAYLIGHT
BEGIN:STANDARD
TZOFFSETFROM:-0600
TZOFFSETTO:-0700
TZNAME:MST
DTSTART:20231105T080000
END:STANDARD
BEGIN:DAYLIGHT
TZOFFSETFROM:-0700
TZOFFSETTO:-0600
TZNAME:MDT
DTSTART:20240310T090000
END:DAYLIGHT
BEGIN:STANDARD
TZOFFSETFROM:-0600
TZOFFSETTO:-0700
TZNAME:MST
DTSTART:20241103T080000
END:STANDARD
BEGIN:DAYLIGHT
TZOFFSETFROM:-0700
TZOFFSETTO:-0600
TZNAME:MDT
DTSTART:20250309T090000
END:DAYLIGHT
BEGIN:STANDARD
TZOFFSETFROM:-0600
TZOFFSETTO:-0700
TZNAME:MST
DTSTART:20251102T080000
END:STANDARD
END:VTIMEZONE
BEGIN:VEVENT
DTSTART;TZID=America/Denver:20240822T120000
DTEND;TZID=America/Denver:20240822T180000
DTSTAMP:20260423T173719
CREATED:20240814T190614Z
LAST-MODIFIED:20240814T190614Z
UID:237-1724328000-1724349600@hangrydog307.com
SUMMARY:Feeding you with a Smile! @ Smile Doctors
DESCRIPTION:Join us for  some lunch or dinner at the Smile Doctors from 12-6.
URL:https://hangrydog307.com/event/feeding-you-with-a-smile-smile-doctors/
LOCATION:Smile Doctors Orthodontics\, 5281 E 2nd Street\, Casper\, WY\, 82609\, United States
END:VEVENT
BEGIN:VEVENT
DTSTART;TZID=America/Denver:20240821T160000
DTEND;TZID=America/Denver:20240821T200000
DTSTAMP:20260423T173719
CREATED:20240814T190341Z
LAST-MODIFIED:20240814T190341Z
UID:235-1724256000-1724270400@hangrydog307.com
SUMMARY:Black Tooth Brewery - Casper
DESCRIPTION:Come down and have dinner with us and a beer at Black Tooth.  We will be serving up good eats from 4-8pm.
URL:https://hangrydog307.com/event/black-tooth-brewery-casper-6/
LOCATION:Black Tooth Brewery – Casper\, 322 South David Street\, Suite A\, Casepr\, WY\, 82601\, United States
END:VEVENT
BEGIN:VEVENT
DTSTART;TZID=America/Denver:20240817T120000
DTEND;TZID=America/Denver:20240817T200000
DTSTAMP:20260423T173719
CREATED:20240730T012018Z
LAST-MODIFIED:20240730T012018Z
UID:217-1723896000-1723924800@hangrydog307.com
SUMMARY:Food and Live Music @ Black Tooth Brewery - Casper
DESCRIPTION:Come to downtown Casper and enjoy all the festivities that will be happening.  We will be parked at Black Tooth Brewery from 12 – 8 serving you up lunch and dinner.  They will have the Wyoming Wayfinders playing some great music for your listening pleasure starting at 7pm.
URL:https://hangrydog307.com/event/food-and-live-music-black-tooth-brewery-casper/
LOCATION:Black Tooth Brewery – Casper\, 322 South David Street\, Suite A\, Casepr\, WY\, 82601\, United States
END:VEVENT
BEGIN:VEVENT
DTSTART;TZID=America/Denver:20240816T150000
DTEND;TZID=America/Denver:20240816T200000
DTSTAMP:20260423T173719
CREATED:20240730T012802Z
LAST-MODIFIED:20240730T012802Z
UID:219-1723820400-1723838400@hangrydog307.com
SUMMARY:Food\, Music and Beer at Frontier Brewing Company
DESCRIPTION:Join us at Frontier on Friday August 16 for some good food and beer at Frontier Brewing Company and stay and listen to Todd n’ Mandi starting at 6pm.
URL:https://hangrydog307.com/event/food-music-and-beer-at-frontier-brewing-company/
LOCATION:Frontier Brewing Company & Taproom\, 150 W 2nd. Street\, Casper\, WY\, 82601\, United States
END:VEVENT
BEGIN:VEVENT
DTSTART;TZID=America/Denver:20240815T160000
DTEND;TZID=America/Denver:20240815T200000
DTSTAMP:20260423T173719
CREATED:20240814T190147Z
LAST-MODIFIED:20240814T190147Z
UID:233-1723737600-1723752000@hangrydog307.com
SUMMARY:Black Tooth Brewery - Casper
DESCRIPTION:Come on down to Black Tooth Brewery in Casper on Thursday for some good eats and good music from Shake Down County.
URL:https://hangrydog307.com/event/black-tooth-brewery-casper-5/
LOCATION:Black Tooth Brewery – Casper\, 322 South David Street\, Suite A\, Casepr\, WY\, 82601\, United States
END:VEVENT
BEGIN:VEVENT
DTSTART;TZID=America/Denver:20240814T160000
DTEND;TZID=America/Denver:20240814T200000
DTSTAMP:20260423T173719
CREATED:20240730T002833Z
LAST-MODIFIED:20240730T002833Z
UID:215-1723651200-1723665600@hangrydog307.com
SUMMARY:Food Truck Food Court - Oil City Beer Company
DESCRIPTION:We will be at Oil City Beer Company with some of our friends enjoying good food\, music and people.  Join us from 4-8 pm.
URL:https://hangrydog307.com/event/food-truck-food-court-oil-city-beer-company/
LOCATION:Oil City Beer Company\, 4155 Legion Ln.\, Casper\, WY\, 82609\, United States
END:VEVENT
BEGIN:VEVENT
DTSTART;TZID=America/Denver:20240810T100000
DTEND;TZID=America/Denver:20240810T160000
DTSTAMP:20260423T173719
CREATED:20240730T002616Z
LAST-MODIFIED:20240730T002616Z
UID:211-1723284000-1723305600@hangrydog307.com
SUMMARY:Central Wyoming Artists & Makers Festival
DESCRIPTION:Join us at Freden Park in Mills for this summers Central Wyoming Artists & Makers Festival from 10 am to 4 pm.  We will be serving you good food along with other food trucks while you check out local artists and what they do.
URL:https://hangrydog307.com/event/central-wyoming-artists-makers-festival/
LOCATION:Freden Park\, 800 Pendell Boulevard\, Mills\, WY\, 82604\, United States
END:VEVENT
BEGIN:VEVENT
DTSTART;TZID=America/Denver:20240809T110000
DTEND;TZID=America/Denver:20240809T130000
DTSTAMP:20260423T173719
CREATED:20240730T001808Z
LAST-MODIFIED:20240730T001808Z
UID:209-1723201200-1723208400@hangrydog307.com
SUMMARY:Lunch at the True Buildings
DESCRIPTION:Come on over to the True Companies building from 11-1pm and we would be happy to serve you up some tasty food for lunch!
URL:https://hangrydog307.com/event/lunch-at-the-true-buildings/
LOCATION:True Company\, 455 N. Poplar Street\, Casper\, WY\, 82601\, United States
END:VEVENT
BEGIN:VEVENT
DTSTART;TZID=America/Denver:20240807T180000
DTEND;TZID=America/Denver:20240807T220000
DTSTAMP:20260423T173719
CREATED:20240730T001642Z
LAST-MODIFIED:20240730T001642Z
UID:207-1723053600-1723068000@hangrydog307.com
SUMMARY:David Street Station - Chris Cagle Concert
DESCRIPTION:Join us at David Street Station for some dinner and to listed to the music stylings of Chris Cagle.  We will be serving you up some grub from 6-10 pm.
URL:https://hangrydog307.com/event/david-street-station-chris-cagle-concert/
LOCATION:David Street Station\, 200 S. David Street\, Casper\, WY\, 82601\, United States
END:VEVENT
BEGIN:VEVENT
DTSTART;TZID=America/Denver:20240803T110000
DTEND;TZID=America/Denver:20240803T150000
DTSTAMP:20260423T173719
CREATED:20240730T001355Z
LAST-MODIFIED:20240730T001355Z
UID:203-1722682800-1722697200@hangrydog307.com
SUMMARY:Casper Fishbowl 10's - Rugby Tournament
DESCRIPTION:Come out and see us and get some lunch while you watch the Chupacabras have some rugby fun!  We will be serving you good eats from 11-3 at the park in Paradise Valley. \n  \nRugby tournament! Open to the public!\nCome watch or participate in an action packed day of rugby!\nRugby\, food\, and fun!\nTheme is Luau!
URL:https://hangrydog307.com/event/casper-fishbowl-10s-rugby-tournament/
LOCATION:Paradise Valley Park\, 31 Begonia St\, Casper\, WY\, 82604\, United States
END:VEVENT
BEGIN:VEVENT
DTSTART;TZID=America/Denver:20240802T170000
DTEND;TZID=America/Denver:20240802T200000
DTSTAMP:20260423T173719
CREATED:20240730T000803Z
LAST-MODIFIED:20240730T000803Z
UID:201-1722618000-1722628800@hangrydog307.com
SUMMARY:Rag Dolls - Rock the Glen Summer Concert Series
DESCRIPTION:Come down to Glenrock and join us and others to enjoy good food and music from the Rag Dolls.
URL:https://hangrydog307.com/event/rag-dolls-rock-the-glen-summer-concert-series/
LOCATION:Town Square – Glenrock\, 500 W Aspen St\, Glenrock\, WY\, 82637\, United States
END:VEVENT
BEGIN:VEVENT
DTSTART;TZID=America/Denver:20240801T170000
DTEND;TZID=America/Denver:20240801T200000
DTSTAMP:20260423T173719
CREATED:20240730T000543Z
LAST-MODIFIED:20240730T000543Z
UID:198-1722531600-1722542400@hangrydog307.com
SUMMARY:Art Walk @ Art 321
DESCRIPTION:Come downtown and enjoy art walk with us!  We will be at Art 321 from 5-8 pm.  See you there!
URL:https://hangrydog307.com/event/art-walk-art-321/
LOCATION:Art 321\, 321 W Midwest Ave.\, Casper\, 82601\, United States
END:VEVENT
BEGIN:VEVENT
DTSTART;TZID=America/Denver:20240731T160000
DTEND;TZID=America/Denver:20240731T200000
DTSTAMP:20260423T173719
CREATED:20240628T050721Z
LAST-MODIFIED:20240628T050721Z
UID:193-1722441600-1722456000@hangrydog307.com
SUMMARY:Food Truck Food Court at Oil City Beer Company
DESCRIPTION:Come down and see us and our other Food Truck friends at Oil City Beer Company from 4-8pm and get some yummy food\, listen to music and enjoy a cold beverage!  See you there!!
URL:https://hangrydog307.com/event/food-truck-food-court-at-oil-city-beer-company/
LOCATION:Oil City Beer Company\, 4155 Legion Ln.\, Casper\, WY\, 82609\, United States
END:VEVENT
BEGIN:VEVENT
DTSTART;TZID=America/Denver:20240727T110000
DTEND;TZID=America/Denver:20240727T200000
DTSTAMP:20260423T173719
CREATED:20240628T050527Z
LAST-MODIFIED:20240628T050527Z
UID:191-1722078000-1722110400@hangrydog307.com
SUMMARY:Frontier Brewing Company
DESCRIPTION:Come on down to Frontier Brewing Company and have dinner or lunch\, or heck stay all day and have both!!  But just make sure you are there at 6pm to listen to the wonderful Zack Scott.
URL:https://hangrydog307.com/event/frontier-brewing-company-2/
LOCATION:Frontier Brewing Company & Taproom\, 150 W 2nd. Street\, Casper\, WY\, 82601\, United States
END:VEVENT
BEGIN:VEVENT
DTSTART;TZID=America/Denver:20240726T170000
DTEND;TZID=America/Denver:20240726T200000
DTSTAMP:20260423T173719
CREATED:20240628T050247Z
LAST-MODIFIED:20240628T050247Z
UID:188-1722013200-1722024000@hangrydog307.com
SUMMARY:Glenrock Town Square - Disciple
DESCRIPTION:Join us in Glenrock on Friday\, July 26th for some good eats and good music at Glenrock Town Square for Disciple\, the next band up in the Rock the Glen Summer Concert Series.  We will be serving you up some tasty grub from 5-8pm.  See you there!!
URL:https://hangrydog307.com/event/glenrock-town-square-disciple/
LOCATION:Town Square – Glenrock\, 500 W Aspen St\, Glenrock\, WY\, 82637\, United States
END:VEVENT
BEGIN:VEVENT
DTSTART;TZID=America/Denver:20240725T180000
DTEND;TZID=America/Denver:20240725T220000
DTSTAMP:20260423T173719
CREATED:20240628T020223Z
LAST-MODIFIED:20240628T020223Z
UID:186-1721930400-1721944800@hangrydog307.com
SUMMARY:Josh Gracin Summer Concert at David Street Station
DESCRIPTION:Come down to David Street Station and grab some dinner while you listen to music by Josh Gracin who was a contestant on the second season of American Idol.  The show will kick off at 6 pm with opening act Justin Baxter.  It’s a night you wont want to miss.
URL:https://hangrydog307.com/event/josh-gracin-summer-concert-at-david-street-station/
LOCATION:David Street Station\, 200 S. David Street\, Casper\, WY\, 82601\, United States
END:VEVENT
BEGIN:VEVENT
DTSTART;TZID=America/Denver:20240724T160000
DTEND;TZID=America/Denver:20240724T200000
DTSTAMP:20260423T173719
CREATED:20240720T010708Z
LAST-MODIFIED:20240720T010708Z
UID:196-1721836800-1721851200@hangrydog307.com
SUMMARY:Black Tooth Brewery - Casper
DESCRIPTION:Come down to Black Tooth Brewery and hang out\, eat food and enjoy a cold brew!  We will be serving you up some delicious food from 4-8pm.
URL:https://hangrydog307.com/event/black-tooth-brewery-casper-4/
LOCATION:Black Tooth Brewery – Casper\, 322 South David Street\, Suite A\, Casepr\, WY\, 82601\, United States
END:VEVENT
BEGIN:VEVENT
DTSTART;TZID=America/Denver:20240720T120000
DTEND;TZID=America/Denver:20240720T210000
DTSTAMP:20260423T173719
CREATED:20240628T015844Z
LAST-MODIFIED:20240628T015844Z
UID:182-1721476800-1721509200@hangrydog307.com
SUMMARY:Summer Hits at Hat Six
DESCRIPTION:Come out to Hat Six and see us and multiple other food trucks\, vendors and musicians.  It’s bound to be a great time! \nCome to Hat Six Travel Center for a day full of fun and music for kids and adults alike! We will have free bouncy houses\, food trucks\, local venders\, and a beer garden.The music kicks off 12:30pm with multiple artist local and from afar.12:30pm Aquile2:30pm Sarah Carper4:30pm Kalyn Beasley and the Honky Tonk Arcade6:30pm The Powel Brothers
URL:https://hangrydog307.com/event/summer-hits-at-hat-six/
LOCATION:Hat Six Travel Center\, 6985 Nugget\, Evansville\, WY\, 82636\, United States
END:VEVENT
BEGIN:VEVENT
DTSTART;TZID=America/Denver:20240718T150000
DTEND;TZID=America/Denver:20240718T200000
DTSTAMP:20260423T173719
CREATED:20240628T015125Z
LAST-MODIFIED:20240628T015125Z
UID:179-1721314800-1721332800@hangrydog307.com
SUMMARY:Frontier Brewing Company
DESCRIPTION:Come down and see us at Frontier Brewing Company from 3-8pm and grab a cold beer and some grub and stick around to listen to the musical talents of The Two Tracks.
URL:https://hangrydog307.com/event/frontier-brewing-company/
LOCATION:Frontier Brewing Company & Taproom\, 150 W 2nd. Street\, Casper\, WY\, 82601\, United States
END:VEVENT
BEGIN:VEVENT
DTSTART;TZID=America/Denver:20240717T170000
DTEND;TZID=America/Denver:20240717T200000
DTSTAMP:20260423T173719
CREATED:20240628T014612Z
LAST-MODIFIED:20240628T014612Z
UID:176-1721235600-1721246400@hangrydog307.com
SUMMARY:David Street Station - Community Talent Show
DESCRIPTION:Come on down to David Street Station and grab some dinner from us while you watch the Community Talent Show featuring community member performances with a grand finale by Wyoming Magician Byron Gray.
URL:https://hangrydog307.com/event/david-street-station-community-talent-show/
LOCATION:David Street Station\, 200 S. David Street\, Casper\, WY\, 82601\, United States
END:VEVENT
BEGIN:VEVENT
DTSTART;TZID=America/Denver:20240710T113000
DTEND;TZID=America/Denver:20240710T133000
DTSTAMP:20260423T173719
CREATED:20240627T231723Z
LAST-MODIFIED:20240627T231723Z
UID:173-1720611000-1720618200@hangrydog307.com
SUMMARY:Lenhart\, Mason & Associates - Lunch
DESCRIPTION:We will be at Lenhart\, Mason & Associates serving up some good eats for lunch!!  Come out and see us!!
URL:https://hangrydog307.com/event/lenhart-mason-associates-lunch/
LOCATION:Lenhart\, Mason & Assoc. LLC\, 900 Werner Ct.\, Casper\, WY\, 82601\, United States
END:VEVENT
BEGIN:VEVENT
DTSTART;TZID=America/Denver:20240709T110000
DTEND;TZID=America/Denver:20240709T130000
DTSTAMP:20260423T173719
CREATED:20240627T231125Z
LAST-MODIFIED:20240627T231403Z
UID:170-1720522800-1720530000@hangrydog307.com
SUMMARY:PMCH Lunch
DESCRIPTION:We will be serving lunch at PMCH from 11-1.
URL:https://hangrydog307.com/event/pmch-lunch/
LOCATION:PMCH\, 600 E 1st Street\, Casper\, WY\, 82601\, United States
END:VEVENT
BEGIN:VEVENT
DTSTART;TZID=America/Denver:20240626T160000
DTEND;TZID=America/Denver:20240626T200000
DTSTAMP:20260423T173719
CREATED:20240528T183713Z
LAST-MODIFIED:20240528T183713Z
UID:156-1719417600-1719432000@hangrydog307.com
SUMMARY:Black Tooth Brewery - Casper
DESCRIPTION:It’s BINGO night at Black Tooth!!  Come out and see us and play BINGO with our friends at Black Tooth.  We will be serving up good eats from 4-8 and the BINGO starts at 7pm.  See you there!!
URL:https://hangrydog307.com/event/black-tooth-brewery-casper-3/
LOCATION:Black Tooth Brewery – Casper\, 322 South David Street\, Suite A\, Casepr\, WY\, 82601\, United States
END:VEVENT
BEGIN:VEVENT
DTSTART;TZID=America/Denver:20240625T170000
DTEND;TZID=America/Denver:20240625T200000
DTSTAMP:20260423T173719
CREATED:20240528T183510Z
LAST-MODIFIED:20240528T183510Z
UID:154-1719334800-1719345600@hangrydog307.com
SUMMARY:Summer Market @ David Street Station
DESCRIPTION:Join us at David Street Station for delicious Hot Dogs along with other vendors\, live music\, craft beer and other food trucks on this fun Tuesday Night in downtown Casper from 5-8 pm.
URL:https://hangrydog307.com/event/summer-market-david-street-station/
LOCATION:David Street Station\, 200 S. David Street\, Casper\, WY\, 82601\, United States
END:VEVENT
BEGIN:VEVENT
DTSTART;TZID=America/Denver:20240622T120000
DTEND;TZID=America/Denver:20240622T200000
DTSTAMP:20260423T173719
CREATED:20240528T183220Z
LAST-MODIFIED:20240528T183220Z
UID:152-1719057600-1719086400@hangrydog307.com
SUMMARY:Black Tooth Brewery - Casper
DESCRIPTION:Come out and see us at Black Tooth Brewery in Casper.  There’s the Brew Fest happening at David Street Station from 2-6 pm\, then live music inside Black Tooth from The Wyoming Wayfinders starting at 7pm.  Come out and enjoy a delicious dog while enjoying what downtown Casper has to offer.
URL:https://hangrydog307.com/event/black-tooth-brewery-casper-2/
LOCATION:Black Tooth Brewery – Casper\, 322 South David Street\, Suite A\, Casepr\, WY\, 82601\, United States
END:VEVENT
BEGIN:VEVENT
DTSTART;TZID=America/Denver:20240621T100000
DTEND;TZID=America/Denver:20240621T130000
DTSTAMP:20260423T173719
CREATED:20240528T182754Z
LAST-MODIFIED:20240528T182754Z
UID:149-1718964000-1718974800@hangrydog307.com
SUMMARY:Casper Skeet Club Lunch
DESCRIPTION:We will be serving lunch to the shooters for the Wyoming State Sporting Clays Shoot on Friday from 10-1
URL:https://hangrydog307.com/event/casper-skeet-club-lunch/
LOCATION:Casper Skeet Club\, 700 JC's Way\, Casper\, WY\, 82601\, United States
END:VEVENT
BEGIN:VEVENT
DTSTART;TZID=America/Denver:20240619T160000
DTEND;TZID=America/Denver:20240619T200000
DTSTAMP:20260423T173719
CREATED:20240528T182140Z
LAST-MODIFIED:20240528T182140Z
UID:147-1718812800-1718827200@hangrydog307.com
SUMMARY:Oil City Beer Company - Food Truck\, Food Court
DESCRIPTION:Come out to Oil City Beer Company every Wednesday this summer from 4-8 pm and enjoy a cold beer and food from 2-4 different food trucks.  There will also be music\, games and vendors.  This is a great summer event for the whole family!
URL:https://hangrydog307.com/event/oil-city-beer-company-food-truck-food-court-2/
LOCATION:Oil City Beer Company\, 4155 Legion Ln.\, Casper\, WY\, 82609\, United States
END:VEVENT
BEGIN:VEVENT
DTSTART;TZID=America/Denver:20240614T180000
DTEND;TZID=America/Denver:20240614T210000
DTSTAMP:20260423T173719
CREATED:20240528T181943Z
LAST-MODIFIED:20240528T184036Z
UID:144-1718388000-1718398800@hangrydog307.com
SUMMARY:Jalan Crossland - Rock The Glen Summer Concert Series
DESCRIPTION:Come one down to Town Square in Glenrock for and listen to the musical talents of Jalan Crossland and get some grub from your favorite food truck (The Hangry Dog\, incase you forgot).  We will be serving up some good eats while you listen to some good tunes from 6-9pm.
URL:https://hangrydog307.com/event/jalan-crossland-rock-the-glen-summer-concert-series/
LOCATION:Town Square – Glenrock\, 500 W Aspen St\, Glenrock\, WY\, 82637\, United States
END:VEVENT
BEGIN:VEVENT
DTSTART;TZID=America/Denver:20240614T110000
DTEND;TZID=America/Denver:20240614T130000
DTSTAMP:20260423T173719
CREATED:20240528T184556Z
LAST-MODIFIED:20240528T184556Z
UID:158-1718362800-1718370000@hangrydog307.com
SUMMARY:True Companies - Lunch
DESCRIPTION:We are serving lunch to the employees at True Company\, but will be open to the public if you want to stop by and grab a bite on your lunch hour.  We will be parked by one of the back buildings off of Big Horn Road across from Thomas Crawford Auto.
URL:https://hangrydog307.com/event/true-companies-lunch/
LOCATION:True Company\, 455 N. Poplar Street\, Casper\, WY\, 82601\, United States
END:VEVENT
BEGIN:VEVENT
DTSTART;TZID=America/Denver:20240612T160000
DTEND;TZID=America/Denver:20240612T200000
DTSTAMP:20260423T173719
CREATED:20240528T181546Z
LAST-MODIFIED:20240528T181546Z
UID:141-1718208000-1718222400@hangrydog307.com
SUMMARY:Black Tooth Brewery - Casper
DESCRIPTION:It’s BINGO night at Black Tooth!!  Come out and see us and play BINGO with our friends at Black Tooth.  We will be serving up good eats from 4-8 and the BINGO starts at 7pm.  See you there!!
URL:https://hangrydog307.com/event/black-tooth-brewery-casper/
LOCATION:Black Tooth Brewery – Casper\, 322 South David Street\, Suite A\, Casepr\, WY\, 82601\, United States
END:VEVENT
END:VCALENDAR