BEGIN:VCALENDAR
VERSION:2.0
PRODID:-//The Hangry Dog - ECPv6.15.20//NONSGML v1.0//EN
CALSCALE:GREGORIAN
METHOD:PUBLISH
X-WR-CALNAME:The Hangry Dog
X-ORIGINAL-URL:https://hangrydog307.com
X-WR-CALDESC:Events for The Hangry Dog
REFRESH-INTERVAL;VALUE=DURATION:PT1H
X-Robots-Tag:noindex
X-PUBLISHED-TTL:PT1H
BEGIN:VTIMEZONE
TZID:America/Denver
BEGIN:DAYLIGHT
TZOFFSETFROM:-0700
TZOFFSETTO:-0600
TZNAME:MDT
DTSTART:20230312T090000
END:DAYLIGHT
BEGIN:STANDARD
TZOFFSETFROM:-0600
TZOFFSETTO:-0700
TZNAME:MST
DTSTART:20231105T080000
END:STANDARD
BEGIN:DAYLIGHT
TZOFFSETFROM:-0700
TZOFFSETTO:-0600
TZNAME:MDT
DTSTART:20240310T090000
END:DAYLIGHT
BEGIN:STANDARD
TZOFFSETFROM:-0600
TZOFFSETTO:-0700
TZNAME:MST
DTSTART:20241103T080000
END:STANDARD
BEGIN:DAYLIGHT
TZOFFSETFROM:-0700
TZOFFSETTO:-0600
TZNAME:MDT
DTSTART:20250309T090000
END:DAYLIGHT
BEGIN:STANDARD
TZOFFSETFROM:-0600
TZOFFSETTO:-0700
TZNAME:MST
DTSTART:20251102T080000
END:STANDARD
END:VTIMEZONE
BEGIN:VEVENT
DTSTART;TZID=America/Denver:20240614T180000
DTEND;TZID=America/Denver:20240614T210000
DTSTAMP:20260424T015824
CREATED:20240528T181943Z
LAST-MODIFIED:20240528T184036Z
UID:144-1718388000-1718398800@hangrydog307.com
SUMMARY:Jalan Crossland - Rock The Glen Summer Concert Series
DESCRIPTION:Come one down to Town Square in Glenrock for and listen to the musical talents of Jalan Crossland and get some grub from your favorite food truck (The Hangry Dog\, incase you forgot).  We will be serving up some good eats while you listen to some good tunes from 6-9pm.
URL:https://hangrydog307.com/event/jalan-crossland-rock-the-glen-summer-concert-series/
LOCATION:Town Square – Glenrock\, 500 W Aspen St\, Glenrock\, WY\, 82637\, United States
END:VEVENT
BEGIN:VEVENT
DTSTART;TZID=America/Denver:20240614T110000
DTEND;TZID=America/Denver:20240614T130000
DTSTAMP:20260424T015824
CREATED:20240528T184556Z
LAST-MODIFIED:20240528T184556Z
UID:158-1718362800-1718370000@hangrydog307.com
SUMMARY:True Companies - Lunch
DESCRIPTION:We are serving lunch to the employees at True Company\, but will be open to the public if you want to stop by and grab a bite on your lunch hour.  We will be parked by one of the back buildings off of Big Horn Road across from Thomas Crawford Auto.
URL:https://hangrydog307.com/event/true-companies-lunch/
LOCATION:True Company\, 455 N. Poplar Street\, Casper\, WY\, 82601\, United States
END:VEVENT
BEGIN:VEVENT
DTSTART;TZID=America/Denver:20240612T160000
DTEND;TZID=America/Denver:20240612T200000
DTSTAMP:20260424T015824
CREATED:20240528T181546Z
LAST-MODIFIED:20240528T181546Z
UID:141-1718208000-1718222400@hangrydog307.com
SUMMARY:Black Tooth Brewery - Casper
DESCRIPTION:It’s BINGO night at Black Tooth!!  Come out and see us and play BINGO with our friends at Black Tooth.  We will be serving up good eats from 4-8 and the BINGO starts at 7pm.  See you there!!
URL:https://hangrydog307.com/event/black-tooth-brewery-casper/
LOCATION:Black Tooth Brewery – Casper\, 322 South David Street\, Suite A\, Casepr\, WY\, 82601\, United States
END:VEVENT
BEGIN:VEVENT
DTSTART;TZID=America/Denver:20240608T100000
DTEND;TZID=America/Denver:20240608T150000
DTSTAMP:20260424T015824
CREATED:20240528T180929Z
LAST-MODIFIED:20240528T180929Z
UID:137-1717840800-1717858800@hangrydog307.com
SUMMARY:Pride Fest at David Street Station
DESCRIPTION:Come down to David Street Station from 10-3 and see us and enjoy the festivities going on with the 2024 Pride Fest.  There will be live music and entertainment\, vendors\, face painting and other food trucks.
URL:https://hangrydog307.com/event/pride-fest-at-david-street-station/
LOCATION:David Street Station\, 200 S. David Street\, Casper\, WY\, 82601\, United States
END:VEVENT
BEGIN:VEVENT
DTSTART;TZID=America/Denver:20240607T180000
DTEND;TZID=America/Denver:20240607T210000
DTSTAMP:20260424T015824
CREATED:20240528T180113Z
LAST-MODIFIED:20240528T180113Z
UID:133-1717783200-1717794000@hangrydog307.com
SUMMARY:Mountain Duo - Rock The Glen Summer Concert Series
DESCRIPTION:Come one down to Town Square in Glenrock for the band Mountain Duo and your favorite food truck (The Hangry Dog\, incase you forgot).  We will be serving up some good eats while you listen to some tunes from 6-9pm.
URL:https://hangrydog307.com/event/mountain-duo-rock-the-glen-summer-concert-series/
LOCATION:Town Square – Glenrock\, 500 W Aspen St\, Glenrock\, WY\, 82637\, United States
END:VEVENT
BEGIN:VEVENT
DTSTART;TZID=America/Denver:20240606T150000
DTEND;TZID=America/Denver:20240606T200000
DTSTAMP:20260424T015824
CREATED:20240528T175546Z
LAST-MODIFIED:20240528T175546Z
UID:130-1717686000-1717704000@hangrydog307.com
SUMMARY:Frontier Brewing - Artwalk & A Band Named Sue
DESCRIPTION:Art Walk is BACK! On Thursday\, June 6\, stop by Frontier and listen to some tunes from A Band Named Sue! Come for the good vibes\, stay for the scrumptious eats from the Hangry Dog Food Truck. See you at Frontier!
URL:https://hangrydog307.com/event/frontier-brewing-artwalk-a-band-named-sue/
LOCATION:Frontier Brewing Company & Taproom\, 150 W 2nd. Street\, Casper\, WY\, 82601\, United States
END:VEVENT
BEGIN:VEVENT
DTSTART;TZID=America/Denver:20240605T160000
DTEND;TZID=America/Denver:20240605T200000
DTSTAMP:20260424T015824
CREATED:20240528T175120Z
LAST-MODIFIED:20240528T182025Z
UID:126-1717603200-1717617600@hangrydog307.com
SUMMARY:Oil City Beer Company - Food Truck\, Food Court
DESCRIPTION:Come out to Oil City Beer Company every Wednesday this summer from 4-8 pm and enjoy a cold beer and food from 2-4 different food trucks.  There will also be music\, games and vendors.  This is a great summer event for the whole family!
URL:https://hangrydog307.com/event/oil-city-beer-company-food-truck-food-court/
LOCATION:Oil City Beer Company\, 4155 Legion Ln.\, Casper\, WY\, 82609\, United States
END:VEVENT
BEGIN:VEVENT
DTSTART;TZID=America/Denver:20240601T110000
DTEND;TZID=America/Denver:20240601T190000
DTSTAMP:20260424T015824
CREATED:20240528T174330Z
LAST-MODIFIED:20240528T174330Z
UID:123-1717239600-1717268400@hangrydog307.com
SUMMARY:Mills Summer Fest 2024
DESCRIPTION:Come out and see us and enjoy good food from us and other Food Trucks\, as well as enjoy a Car Show\, Adult Beverages\, kids activities and Musical Performances from multiple bands.
URL:https://hangrydog307.com/event/mills-summer-fest-2024/
LOCATION:Mills Summer Fest\, 1118 Falcon Ave.\, Mills\, WY\, 82604\, United States
END:VEVENT
BEGIN:VEVENT
DTSTART;TZID=America/Denver:20240530T170000
DTEND;TZID=America/Denver:20240530T210000
DTSTAMP:20260424T015824
CREATED:20240528T040509Z
LAST-MODIFIED:20240528T173000Z
UID:92-1717088400-1717102800@hangrydog307.com
SUMMARY:David Street Station - Chancey Williams Concert
DESCRIPTION:Come out and see us at David Street Station and enjoy a delicious hot dog and some great music from Chancey William.
URL:https://hangrydog307.com/event/david-street-station-chancey-williams-concert/
LOCATION:WY
END:VEVENT
BEGIN:VEVENT
DTSTART;TZID=America/Denver:20240529T110000
DTEND;TZID=America/Denver:20240529T140000
DTSTAMP:20260424T015824
CREATED:20240528T114737Z
LAST-MODIFIED:20240528T173036Z
UID:118-1716980400-1716991200@hangrydog307.com
SUMMARY:Buffalo Bean 307 Lunch
DESCRIPTION:Come and see us at Buffalo Bean 307 and get some lunch and a yummy coffee treat!
URL:https://hangrydog307.com/event/buffalo-bean-307-lunch/
LOCATION:Buffalo Bean 307\, 2925 CY Ave.\, Casper\, WY\, 82604\, United States
END:VEVENT
END:VCALENDAR